{"text_format":"1","workbook":"xlsx","n_sheets":6,"sheets":["_管理者用","データ入力","申し込み用紙","申し込み用紙2","パンフレット","パンフレット2"],"not_rendered":{"charts":0,"images":0,"macros":1,"external_links":0,"defined_names":11,"comments":0,"pivot_tables":0},"unopened":[],"bounds":{"document_bytes":16777216,"sheet_cells":100000,"rows_first":2000,"rows_last":500,"rows_between":2000,"halvings":0,"cell_chars":16384,"cell_head_chars":4096},"cells_cut":0,"cells_raw":0,"read":"whole","date_system":"1900"}

{"sheet":"_管理者用","index":0,"n_rows":66,"n_cols":7,"rows_kept":66,"cut":false,"hidden":true,"merged":[[0,3,0,5],[1,3,1,5],[2,4,2,5],[3,4,3,5],[7,2,9,2]]}
[1,null,"←大会名を指定","XX-Moushikomi.xlsmMANUAL",null,null,"Ver.2.3"]
["ID",{"$f":"MATCH(データ入力!C11,チームリスト,0)","v":1},"←チームID","XX-Moushikomi.xlsmの次のシートはすでにロックがかかっています。"]
["合",{"$f":"IF(LEFT(データ入力!C8,1)=\"合\",TRUE,FALSE)","v":false},"←合同チーム",null,"「パンフレット」シート、「パンフレット2」シート（ただし、「オブジェクトの編集」は認めています。"]
["春","春季総合体育大会","←大会名称",null,"次の手順の②～⑦はどの大会も同じです。"]
["秋","秋季総合体育大会",null,"Ⅰ","春季総合体育大会"]
["県","県民体育大会",null,null,"①","「_管理者用」シートのB2セルの大会を「春季総合体育大会」に設定します。"]
[null,"注意事項",null,null,"②","「データ入力」シートのC8セルを「単独チームの申し込みを作成」を選択する。"]
["春",null,"←データ入力シートに\n　表示させる注意事項",null,"③","「申込書確認・印刷」ボタンを押し、「申し込み用紙」シートを保護する。パスワードは「3475」"]
["秋","このブックのファイル名、写真のファイル名、校章のファイル名は高校名を入れ、それぞれ異なる名前にしてください。\n「選手権パンフレット確認」ボタンを押して、確認をしてくだい。",null,null,"④","「データ入力」シートに戻り、C8セルを「合同チームの申し込みを作成」を選択する。"]
["県","登録選手が25人以内のときは、「ID」1～25に入力してください。背番号は変更できるので、上から順に詰めて登録してください。",null,null,"⑤","「申込書確認・印刷」ボタンを押し、「申し込み用紙2」シートを保護する。パスワードは「3475」"]
["範囲「チームリスト」は調整してください。↓",null,null,null,"⑥","「データ入力」シートを保護する。パスワードは「3475」"]
[1,"高島","←ここからチームリスト",null,"⑦","「_管理者用」シートを非表示にする。"]
[2,"安曇川",null,null,"⑧","名前を付けて保存する。「HARU-Moushikomisyo」など。"]
[3,"堅田",null,null,"⑨","配布する。"]
[4,"北大津",null,"Ⅱ","県民体育大会"]
[5,"大津商業",null,null,"①","「_管理者用」シートのB2セルの大会を「県民体育大会」に設定します。"]
[6,"大津",null,null,"②","「データ入力」シートのC8セルを「単独チームの申し込みを作成」を選択する。"]
[7,"膳所",null,null,"③","「申込書確認・印刷」ボタンを押し、「申し込み用紙」シートを保護する。パスワードは「3475」"]
[8,"石山",null,null,"④","「データ入力」シートに戻り、C8セルを「合同チームの申し込みを作成」を選択する。"]
[9,"瀬田工業",null,null,"⑤","「申込書確認・印刷」ボタンを押し、「申し込み用紙2」シートを保護する。パスワードは「3475」"]
[10,"東大津",null,null,"⑥","「データ入力」シートを保護する。パスワードは「3475」"]
[11,"玉川",null,null,"⑦","「_管理者用」シートを非表示にする。"]
[12,"草津",null,null,"⑧","名前を付けて保存する。「KENTAI-Moushikomisyo」など。"]
[13,"草津東",null,null,"⑨","配布する。"]
[14,"湖南農業",null,"Ⅲ","-ⅰ","秋季総合体育大会"]
[15,"栗東",null,null,"①","「_管理者用」シートのB2セルの大会を「秋季総合体育大会」に設定します。"]
[16,"国際情報",null,null,"②","「データ入力」シートのC8セルを「単独チームの申し込みを作成」を選択する。"]
[17,"甲西",null,null,"③","「申込書確認・印刷」ボタンを押し、「申し込み用紙」シートを保護する。パスワードは「3475」"]
[18,"水口",null,null,"④","「データ入力」シートに戻り、C8セルを「合同チームの申し込みを作成」を選択する。"]
[19,"水口東",null,null,"⑤","「申込書確認・印刷」ボタンを押し、「申し込み用紙2」シートを保護する。パスワードは「3475」"]
[20,"甲南",null,null,"⑥","「データ入力」シートを保護する。パスワードは「3475」"]
[21,"信楽",null,null,"⑦","「_管理者用」シートを非表示にする。"]
[22,"日野",null,null,"⑧","名前を付けて保存する。「AKI-Moushikomisyo」など。"]
[23,"守山",null,null,"⑨","配布する。"]
[24,"守山北",null,"Ⅲ","-ⅱ","秋季総合体育大会パンフレット原稿作成"]
[25,"野洲",null,null,null,"「パンフレット原稿メーカー.xlsm」を参照してください。"]
[26,"八幡"]
[27,"八幡工業"]
[28,"八幡商業"]
[29,"八日市"]
[30,"八日市南"]
[31,"能登川"]
[32,"河瀬"]
[33,"彦根東"]
[34,"彦根翔西館"]
[35,"彦根工業"]
[36,"米原"]
[37,"伊吹"]
[38,"長浜北"]
[39,"長浜北星"]
[40,"長浜農業"]
[41,"虎姫"]
[42,"伊香"]
[43,"比叡山"]
[44,"光泉"]
[45,"近江"]
[46,"近江兄弟社"]
[47,"綾羽"]
[48,"滋賀学園"]
[49,"立命館守山"]
[50,"彦根総合"]
[51,"幸福の科学学園"]
[52,"滋賀短期大学附属"]
[53,"八幡商業","←ここから女子チームのつもり"]
[54,"国際情報"]
[55,"日野"]

{"sheet":"データ入力","index":1,"n_rows":81,"n_cols":11,"rows_kept":81,"cut":false,"hidden":false,"merged":[[20,2,20,3],[7,5,8,7],[16,2,16,3],[16,6,16,7],[15,6,15,7],[17,6,17,7],[18,6,18,7],[19,6,19,7],[20,6,20,7],[11,6,11,7],[12,6,12,7],[13,6,13,7],[14,6,14,7],[15,2,15,3],[12,2,12,3],[17,2,17,3],[7,2,7,3],[5,2,5,3],[2,1,2,9],[0,1,0,3],[19,2,19,3],[13,2,13,3],[14,2,14,3],[11,2,11,3],[18,2,18,3],[9,4,10,4]]}
[null,{"$f":"INDEX(_管理者用!B4:B6,_管理者用!A1)","v":"春季総合体育大会"},null,null,"参加申込書兼メンバー用紙作成ブック"]
[]
[null,{"$f":"\"必要事項を記入し、「申し込み書確認・印刷」ボタンを押してください。\"&CHAR(10)&INDEX(_管理者用!B8:B10,_管理者用!A1)","v":"必要事項を記入し、「申し込み書確認・印刷」ボタンを押してください。\n"}]
[null,"※ドラッグアンドペーストのコピーはしないでください。参照にずれが生じます。"]
[null,"大会年度",31,"年度"]
[null,"専門部長","                                             "]
[]
[null,"合同","単独チーム申し込みを作成",null,null,"※合同チームで参加する場合は、まず高校ごとの申し込み書（単独チームの申し込み）を作成し、顧問会議までに、専門委員長に提出してください。その後、顧問会議当日に、合同チーム用の申込書を提出してください。\n"]
[]
[null,"高校名1","滋賀県立",null,"←私立高校で特に冠がないときは、空欄で結構です。","高校名1","滋賀県立"]
[null,"高校名2","高島","高等学校",null,"高校名2",null,"高等学校"]
[null,"郵便番号",null,null,null,"郵便番号"]
[null,"住所1",null,null,null,"住所1"]
[null,"電話番号",null,null,null,"電話番号"]
[null,"主将の抱負",null,null,null,"主将の抱負"]
[null,"写真ファイル名",null,null,"←[（高校名）写真]→","写真ファイル名"]
[null,"校章ファイル名",null,null,"←[（高校名）校章]→","校章ファイル名"]
[null,"校長名",null,null,null,"校長名"]
[null,"部長",null,null,null,"部長"]
[null,"監督",null,null,null,"監督"]
[null,"主将",null,null,null,"主将"]
[]
[null,"ユニフォームカラー","シャツ","ショーツ","ソックス"]
[null,"FP正"]
[null,"FP副"]
[null,"GK正",null,null,null,"←・フィールド・ＧＫともシャツは黒又は濃い色で審判と紛らわしい色は不可。",null,null,null,{"$f":"IF(C11=\"\",\"\",C11)","v":"高島"}]
[null,"GK副",null,null,null,"←・フィールドとＧＫの正副は全て色が重ならないようにして下さい。",null,null,null,{"$f":"IF(G11=\"\",\"\",G11)","v":""}]
[null,null,null,"姓と名の間は全角スペース↓","↓数字はすべて半角"]
["ID","背番号","ポジション","選手名","学年","身長cm","体重kg","U-15登録チーム","U-12登録チーム","合同高校名"]
[1,1,null,null,null,null,null,null,"さしすせそ",null,"←位置、学年、身長、体重は半角で入力して下さい。"]
[2,2,null,null,null,null,null,null,"さしすせそ",null,"←前登録チームがなければ（高校で始めて登録）空白にして下さい。"]
[3,3,null,null,null,null,null,null,"さしすせそ"]
[4,4,null,null,null,null,null,null,"さしすせそ"]
[5,5,null,null,null,null,null,null,"さしすせそ"]
[6,6,null,null,null,null,null,null,"さしすせそ"]
[7,7,null,null,null,null,null,null,"さしすせそ"]
[8,8,null,null,null,null,null,null,"さしすせそ"]
[9,9,null,null,null,null,null,null,"さしすせそ"]
[10,10,null,null,null,null,null,null,"さしすせそ"]
[11,11,null,null,null,null,null,null,"さしすせそ"]
[12,12,null,null,null,null,null,null,"さしすせそ"]
[13,13,null,null,null,null,null,null,"さしすせそ"]
[14,14,null,null,null,null,null,null,"さしすせそ"]
[15,15,null,null,null,null,null,null,"さしすせそ"]
[16,16,null,null,null,null,null,null,"さしすせそ"]
[17,17]
[18,18,null,null,null,null,null,null,"さしすせそ"]
[19,19,null,null,null,null,null,null,"さしすせそ"]
[20,20,null,null,null,null,null,null,"さしすせそ"]
[21,21,null,null,null,null,null,null,"さしすせそ"]
[22,22,null,null,null,null,null,null,"さしすせそ"]
[23,23,null,null,null,null,null,null,"さしすせそ"]
[24,24,null,null,null,null,null,null,"さしすせそ"]
[25,25,null,null,null,null,null,null,"さしすせそ"]
[26,26,null,"あい　うえ",null,123.5]
[27,27,null,"あい　うえ",null,124]
[28,28,null,"あい　うえ",null,124.5]
[29,29,null,"あい　うえ",null,125]
[30,30,null,"あい　うえ",null,125.5]
[31,31,null,"あい　うえ",null,126]
[32,32,null,"あい　うえ",null,126.5]
[33,33,null,"あい　うえ",null,127]
[34,34,null,"あい　うえ",null,127.5]
[35,35,null,"あい　うえ",null,128]
[36,36,null,"あい　うえ",null,128.5]
[37,37,null,"あい　うえ",null,129]
[38,38,null,"あい　うえ",null,129.5]
[39,39,null,"あい　うえ",null,130]
[40,40,null,"あい　うえ",null,130.5]
[41,41,null,"あい　うえ",null,131]
[42,42,null,"あい　うえ",null,131.5]
[43,43,null,"あい　うえ",null,132]
[44,44,null,"あい　うえ",null,132.5]
[45,45,null,"あい　うえ",null,133]
[46,46,null,"あい　うえ",null,133.5]
[47,47,null,"あい　うえ",null,134]
[48,48,null,"あい　うえ",null,134.5]
[49,49,null,"あい　うえ",null,135]
[50,50,null,"あい　うえ",null,135.5]
[]
[null,null,null,{"$f":"COUNTA(D55:D79)","v":25}]

{"sheet":"申し込み用紙","index":2,"n_rows":90,"n_cols":17,"rows_kept":90,"cut":false,"hidden":true,"merged":[[85,13,85,14],[80,13,80,14],[81,13,81,14],[82,13,82,14],[83,13,83,14],[84,13,84,14],[83,6,83,9],[84,6,84,9],[85,6,85,9],[81,6,81,9],[82,6,82,9],[65,13,65,14],[68,13,68,14],[69,13,69,14],[70,13,70,14],[71,13,71,14],[72,13,72,14],[73,13,73,14],[74,13,74,14],[75,13,75,14],[71,6,71,9],[72,6,72,9],[76,13,76,14],[77,13,77,14],[78,13,78,14],[79,13,79,14],[78,6,78,9],[79,6,79,9],[80,6,80,9],[65,6,65,9],[66,6,66,9],[86,6,86,9],[86,13,86,14],[87,6,87,9],[87,13,87,14],[60,3,60,8],[66,13,66,14],[67,6,67,9],[67,13,67,14],[62,6,62,9],[62,13,62,14],[63,6,63,9],[63,13,63,14],[64,6,64,9],[64,13,64,14],[73,6,73,9],[74,6,74,9],[75,6,75,9],[76,6,76,9],[77,6,77,9],[68,6,68,9],[69,6,69,9],[70,6,70,9],[57,3,57,7],[58,3,58,7],[50,6,50,9],[50,13,50,14],[51,6,51,9],[51,13,51,14],[53,9,53,13],[54,2,55,14],[56,2,56,6],[47,6,47,9],[47,13,47,14],[48,6,48,9],[48,13,48,14],[49,6,49,9],[49,13,49,14],[43,6,43,9],[43,13,43,14],[44,6,44,9],[44,13,44,14],[45,6,45,9],[45,13,45,14],[40,6,40,9],[40,13,40,14],[41,6,41,9],[41,13,41,14],[42,6,42,9],[42,13,42,14],[37,6,37,9],[37,13,37,14],[38,6,38,9],[38,13,38,14],[39,6,39,9],[39,13,39,14],[34,6,34,9],[34,13,34,14],[35,6,35,9],[35,13,35,14],[36,6,36,9],[36,13,36,14],[31,6,31,9],[31,13,31,14],[32,6,32,9],[32,13,32,14],[33,6,33,9],[33,13,33,14],[28,6,28,9],[28,13,28,14],[29,6,29,9],[29,13,29,14],[30,6,30,9],[30,13,30,14],[25,6,25,9],[25,13,25,14],[26,6,26,9],[26,13,26,14],[27,6,27,9],[27,13,27,14],[1,2,1,12],[22,6,22,9],[22,13,22,14],[23,6,23,9],[23,13,23,14],[24,6,24,9],[24,13,24,14],[21,6,21,9],[21,13,21,14],[15,3,15,7],[15,8,15,9],[15,10,15,14],[16,3,16,7],[16,8,16,9],[16,10,16,14],[17,3,17,7],[17,8,17,9],[17,10,17,14],[20,6,20,9],[20,13,20,14],[12,3,12,7],[12,8,12,9],[12,10,12,14],[13,7,14,14],[14,2,14,4],[3,5,3,14],[5,2,6,2],[5,3,6,7],[5,9,9,9],[5,10,5,11],[6,10,7,10],[7,3,7,7],[8,3,8,7],[8,10,9,10],[9,3,9,7]]}
[null,null,{"$f":"データ入力!B1","v":"春季総合体育大会"},{"$f":"合同フラグ","v":false},{"$f":"IF(データ入力!C10=\"その他→\",データ入力!D10,データ入力!C10)&データ入力!C11&データ入力!D11","v":"滋賀県立高島高等学校"},{"$f":"IF(データ入力!G10=\"その他→\",データ入力!H10,データ入力!C10)&データ入力!G11&データ入力!H11","v":"滋賀県立高等学校"}]
[null,null,"この用紙の印刷はエクセルのメニューから行ってください。\n校長印を押印の上、顧問会議でご提出ください。その後、専門部長印を受けた用紙を返却しますので、それをコピーし、当日のメンバー用紙として使用してください。"]
[]
[null,null,"平成",{"$f":"データ入力!C5","v":31},"年度",{"$f":"C1&\"　参加申込書　兼　メンバー用紙\"","v":"春季総合体育大会　参加申込書　兼　メンバー用紙"}]
[]
[null,null,"学校名",{"$f":"E1","v":"滋賀県立高島高等学校"},null,null,null,null,null,"ユニホーム",null,null,"シャツ","ショーツ","ソックス"]
[null,null,null,null,null,null,null,null,null,null,"ＦＰ","正",{"$f":"データ入力!C24","v":0},{"$f":"データ入力!D24","v":0},{"$f":"データ入力!E24","v":0}]
[null,null,"部 長",{"$f":"データ入力!C19","v":0},null,null,null,null,null,null,null,"副",{"$f":"データ入力!C25","v":0},{"$f":"データ入力!D25","v":0},{"$f":"データ入力!E25","v":0}]
[null,null,"監 督",{"$f":"データ入力!C20","v":0},null,null,null,null,null,null,"ＧＫ","正",{"$f":"データ入力!C26","v":0},{"$f":"データ入力!D26","v":0},{"$f":"データ入力!E26","v":0}]
[null,null,"主 将",{"$f":"データ入力!C21","v":0},null,null,null,null,null,null,null,"副",{"$f":"データ入力!C27","v":0},{"$f":"データ入力!D27","v":0},{"$f":"データ入力!E27","v":0}]
[]
[]
[null,null,"大会日","平成　　　　年　　　　月　　　　日",null,null,null,null,"会場"]
[null,null,null,null,null,null,null,"（　本部用　･　相手チーム用　）"]
[null,null,"ベンチ入りスタッフ"]
[null,null,"部 長",null,null,null,null,null,null,null,null,null,null,null,null,null,"大会当日に記入、もしくは手入力"]
[null,null,"監 督"]
[]
[]
[null,null,null,null,2,3,4,null,null,null,5,6,7,8]
[null,null,"先発○","Sub△","番号","ポジション","選　手　名",null,null,null,"学年","身長","体重","前登録チーム"]
[1,null,null,null,{"$f":"IF(VLOOKUP($A22,選手データ,E$20,0)=0,\"\",ASC(VLOOKUP($A22,選手データ,E$20,0)))","v":"1"},"","",{"$error":"#VALUE!"},{"$error":"#VALUE!"},{"$error":"#VALUE!"},"",{"$f":"IF(VLOOKUP($A22,選手データ,L$20,0)=0,\"\",INT(ASC(VLOOKUP($A22,選手データ,L$20,0))+0.5))","v":""},"","",{"$error":"#VALUE!"}]
[2,null,null,null,"2","","",{"$error":"#VALUE!"},{"$error":"#VALUE!"},{"$error":"#VALUE!"},"","","","",{"$error":"#VALUE!"}]
[3,null,null,null,"3","","",{"$error":"#VALUE!"},{"$error":"#VALUE!"},{"$error":"#VALUE!"},"","","","",{"$error":"#VALUE!"}]
[4,null,null,null,"4","","",{"$error":"#VALUE!"},{"$error":"#VALUE!"},{"$error":"#VALUE!"},"","","","",{"$error":"#VALUE!"}]
[5,null,null,null,"5","","",{"$error":"#VALUE!"},{"$error":"#VALUE!"},{"$error":"#VALUE!"},"","","","",{"$error":"#VALUE!"}]
[6,null,null,null,"6","","",{"$error":"#VALUE!"},{"$error":"#VALUE!"},{"$error":"#VALUE!"},"","","","",{"$error":"#VALUE!"}]
[7,null,null,null,"7","","",{"$error":"#VALUE!"},{"$error":"#VALUE!"},{"$error":"#VALUE!"},"","","","",{"$error":"#VALUE!"}]
[8,null,null,null,"8","","",{"$error":"#VALUE!"},{"$error":"#VALUE!"},{"$error":"#VALUE!"},"","","","",{"$error":"#VALUE!"}]
[9,null,null,null,"9","","",{"$error":"#VALUE!"},{"$error":"#VALUE!"},{"$error":"#VALUE!"},"","","","",{"$error":"#VALUE!"}]
[10,null,null,null,"10","","",{"$error":"#VALUE!"},{"$error":"#VALUE!"},{"$error":"#VALUE!"},"","","","",{"$error":"#VALUE!"}]
[11,null,null,null,{"$f":"IF(VLOOKUP($A32,選手データ,E$20,0)=0,\"\",ASC(VLOOKUP($A32,選手データ,E$20,0)))","v":"11"},"","",{"$error":"#VALUE!"},{"$error":"#VALUE!"},{"$error":"#VALUE!"},"","","","",{"$error":"#VALUE!"}]
[12,null,null,null,"12","","",{"$error":"#VALUE!"},{"$error":"#VALUE!"},{"$error":"#VALUE!"},"","","","",{"$error":"#VALUE!"}]
[13,null,null,null,"13","","",{"$error":"#VALUE!"},{"$error":"#VALUE!"},{"$error":"#VALUE!"},"","","","",{"$error":"#VALUE!"}]
[14,null,null,null,"14","","",{"$error":"#VALUE!"},{"$error":"#VALUE!"},{"$error":"#VALUE!"},"","","","",{"$error":"#VALUE!"}]
[15,null,null,null,"15","","",{"$error":"#VALUE!"},{"$error":"#VALUE!"},{"$error":"#VALUE!"},"","","","",{"$error":"#VALUE!"}]
[16,null,null,null,"16","","",{"$error":"#VALUE!"},{"$error":"#VALUE!"},{"$error":"#VALUE!"},"","","","",{"$error":"#VALUE!"}]
[17,null,null,null,"17","","",{"$error":"#VALUE!"},{"$error":"#VALUE!"},{"$error":"#VALUE!"},"","","","",{"$error":"#VALUE!"}]
[18,null,null,null,"18","","",{"$error":"#VALUE!"},{"$error":"#VALUE!"},{"$error":"#VALUE!"},"","","","",{"$error":"#VALUE!"}]
[19,null,null,null,"19","","",{"$error":"#VALUE!"},{"$error":"#VALUE!"},{"$error":"#VALUE!"},"","","","",{"$error":"#VALUE!"}]
[20,null,null,null,"20","","",{"$error":"#VALUE!"},{"$error":"#VALUE!"},{"$error":"#VALUE!"},"","","","",{"$error":"#VALUE!"}]
[21,null,null,null,"21","","",{"$error":"#VALUE!"},{"$error":"#VALUE!"},{"$error":"#VALUE!"},"","","","",{"$error":"#VALUE!"}]
[22,null,null,null,"22","","",{"$error":"#VALUE!"},{"$error":"#VALUE!"},{"$error":"#VALUE!"},"","","","",{"$error":"#VALUE!"}]
[23,null,null,null,"23","","",{"$error":"#VALUE!"},{"$error":"#VALUE!"},{"$error":"#VALUE!"},"","","","",{"$error":"#VALUE!"}]
[24,null,null,null,"24","","",{"$error":"#VALUE!"},{"$error":"#VALUE!"},{"$error":"#VALUE!"},"","","","",{"$error":"#VALUE!"}]
[25,null,null,null,"25","","",{"$error":"#VALUE!"},{"$error":"#VALUE!"},{"$error":"#VALUE!"},"","","","",{"$error":"#VALUE!"}]
[null,null,"追加･変更選手（選手エントリー変更・追加届を提出）"]
[]
[null,null,null,null,null,null,null,null,null,"追加･変更",null,null,null,null,null,null,"選手エントリー変更・追加届を提出のうえ"]
[null,null,null,null,null,null,null,null,null,"追加･変更",null,null,null,null,null,null,"大会当日に記入"]
[null,null,null,null,null,null,null,null,null,"追加･変更"]
[null,null,null,null,null,null,null,null,null,"追加･変更"]
[]
[null,null,"滋賀県高等学校体育連盟　サッカー専門部長",null,null,null,null,null,null,{"$f":"データ入力!C6","v":"                                             "},null,null,null,null,"様"]
[null,null,{"$f":"\"　上記の者は、平成　\"&データ入力!C5&\"　年度　\"&C1&\"（高校サッカーの部）要項の参加資格に相違なく、出場を許可し、ここに参加申し込みををいたします。\"","v":"　上記の者は、平成　31　年度　春季総合体育大会（高校サッカーの部）要項の参加資格に相違なく、出場を許可し、ここに参加申し込みををいたします。"}]
[]
[null,null,{"$f":"TODAY()","v":"2019-03-28"},null,null,null,null,null,null,null,null,null,null,null,"上記チーム・選手の、大会出場を認める。　","←日付を変更する場合は手入力で変更してください。yyyy/MM/dd"]
[null,null,"学校名",{"$f":"E1","v":"滋賀県立高島高等学校"}]
[null,null,"校　長",{"$f":"データ入力!C18","v":0},null,null,null,null,null,"　㊞",null,null,null,null,"　㊞","←右側の㊞には押印しないでください。"]
[]
[null,null,"学校名",{"$f":"D6","v":"滋賀県立高島高等学校"},null,null,null,null,null,null,null,null,null,null,"No.2"]
[]
[null,null,"先発","Sub","番号","ポジション","選　手　名",null,null,null,"学年","身長","体重","前登録チーム"]
[26,null,null,null,{"$f":"IF(VLOOKUP($A64,選手データ,E$20,0)=0,\"\",ASC(VLOOKUP($A64,選手データ,E$20,0)))","v":"26"},"","あい うえ",null,null,null,{"$f":"IF(VLOOKUP($A64,選手データ,K$20,0)=0,\"\",ASC(VLOOKUP($A64,選手データ,K$20,0)))","v":""},"123.5","",""]
[27,null,null,null,"27","","あい うえ",null,null,null,"","124","",""]
[28,null,null,null,"28","","あい うえ",null,null,null,"","124.5","",""]
[29,null,null,null,"29","","あい うえ",null,null,null,"","125","",""]
[30,null,null,null,"30","","あい うえ",null,null,null,"","125.5","",""]
[31,null,null,null,"31","","あい うえ",null,null,null,"","126","",""]
[32,null,null,null,"32","","あい うえ",null,null,null,"","126.5","",""]
[33,null,null,null,"33","","あい うえ",null,null,null,"","127","",""]
[34,null,null,null,"34","","あい うえ",null,null,null,"","127.5","",""]
[35,null,null,null,"35","","あい うえ",null,null,null,"","128","",""]
[36,null,null,null,"36","","あい うえ",null,null,null,"","128.5","",""]
[37,null,null,null,"37","","あい うえ",null,null,null,"","129","",""]
[38,null,null,null,"38","","あい うえ",null,null,null,"","129.5","",""]
[39,null,null,null,"39","","あい うえ",null,null,null,"","130","",""]
[40,null,null,null,"40","","あい うえ",null,null,null,"","130.5","",""]
[41,null,null,null,"41","","あい うえ",null,null,null,"","131","",""]
[42,null,null,null,"42","","あい うえ",null,null,null,"","131.5","",""]
[43,null,null,null,"43","","あい うえ",null,null,null,"","132","",""]
[44,null,null,null,"44","","あい うえ",null,null,null,"","132.5","",""]
[45,null,null,null,"45","","あい うえ",null,null,null,"","133","",""]
[46,null,null,null,"46","","あい うえ",null,null,null,"","133.5","",""]
[47,null,null,null,"47","","あい うえ",null,null,null,"","134","",""]
[48,null,null,null,"48","","あい うえ",null,null,null,"","134.5","",""]
[49,null,null,null,"49","","あい うえ",null,null,null,"","135","",""]
[50,null,null,null,"50","","あい うえ",null,null,null,"","135.5","",""]
[]
[null,null,null,null,null,null,null,null,null,null,null,null,null,"上記チーム・選手の、大会出場を認める。　","㊞","←右側の㊞には押印しないでください。"]

{"sheet":"申し込み用紙2","index":3,"n_rows":90,"n_cols":17,"rows_kept":90,"cut":false,"hidden":true,"merged":[[85,6,85,7],[85,8,85,9],[86,6,86,7],[86,8,86,9],[87,6,87,7],[87,8,87,9],[85,13,85,14],[86,13,86,14],[60,3,60,8],[87,13,87,14],[80,13,80,14],[81,13,81,14],[82,13,82,14],[83,13,83,14],[84,13,84,14],[80,6,80,7],[80,8,80,9],[81,6,81,7],[81,8,81,9],[82,6,82,7],[82,8,82,9],[83,6,83,7],[83,8,83,9],[84,6,84,7],[84,8,84,9],[75,13,75,14],[76,13,76,14],[77,13,77,14],[78,13,78,14],[79,13,79,14],[75,6,75,7],[75,8,75,9],[76,6,76,7],[76,8,76,9],[77,6,77,7],[77,8,77,9],[78,6,78,7],[78,8,78,9],[79,6,79,7],[79,8,79,9],[70,13,70,14],[71,13,71,14],[72,13,72,14],[73,13,73,14],[74,13,74,14],[70,6,70,7],[70,8,70,9],[71,6,71,7],[71,8,71,9],[72,6,72,7],[72,8,72,9],[73,6,73,7],[73,8,73,9],[74,6,74,7],[74,8,74,9],[65,13,65,14],[66,13,66,14],[67,13,67,14],[68,13,68,14],[69,13,69,14],[65,6,65,7],[65,8,65,9],[66,6,66,7],[66,8,66,9],[67,6,67,7],[67,8,67,9],[68,6,68,7],[68,8,68,9],[69,6,69,7],[69,8,69,9],[62,13,62,14],[63,13,63,14],[64,13,64,14],[62,6,62,7],[62,8,62,9],[63,6,63,7],[63,8,63,9],[64,6,64,7],[64,8,64,9],[53,9,53,13],[54,2,55,14],[57,3,57,7],[58,3,58,7],[50,6,50,7],[50,8,50,9],[50,13,50,14],[51,6,51,7],[51,8,51,9],[51,13,51,14],[56,2,56,6],[48,6,48,7],[48,8,48,9],[48,13,48,14],[49,6,49,7],[49,8,49,9],[49,13,49,14],[45,6,45,7],[45,8,45,9],[45,13,45,14],[47,6,47,7],[47,8,47,9],[47,13,47,14],[43,6,43,7],[43,8,43,9],[43,13,43,14],[44,6,44,7],[44,8,44,9],[44,13,44,14],[41,6,41,7],[41,8,41,9],[41,13,41,14],[42,6,42,7],[42,8,42,9],[42,13,42,14],[39,6,39,7],[39,8,39,9],[39,13,39,14],[40,6,40,7],[40,8,40,9],[40,13,40,14],[37,6,37,7],[37,8,37,9],[37,13,37,14],[38,6,38,7],[38,8,38,9],[38,13,38,14],[35,6,35,7],[35,8,35,9],[35,13,35,14],[36,6,36,7],[36,8,36,9],[36,13,36,14],[33,6,33,7],[33,8,33,9],[33,13,33,14],[34,6,34,7],[34,8,34,9],[34,13,34,14],[31,6,31,7],[31,8,31,9],[31,13,31,14],[32,6,32,7],[32,8,32,9],[32,13,32,14],[29,6,29,7],[29,8,29,9],[29,13,29,14],[30,6,30,7],[30,8,30,9],[30,13,30,14],[27,6,27,7],[27,8,27,9],[27,13,27,14],[28,6,28,7],[28,8,28,9],[28,13,28,14],[25,6,25,7],[25,8,25,9],[25,13,25,14],[26,6,26,7],[26,8,26,9],[26,13,26,14],[23,6,23,7],[23,8,23,9],[23,13,23,14],[24,6,24,7],[24,8,24,9],[24,13,24,14],[21,6,21,7],[21,8,21,9],[21,13,21,14],[22,6,22,7],[22,8,22,9],[22,13,22,14],[20,6,20,7],[20,8,20,9],[20,13,20,14],[15,3,15,7],[15,8,15,9],[15,10,15,14],[16,3,16,7],[16,8,16,9],[16,10,16,14],[7,3,7,7],[8,3,8,7],[8,10,9,10],[5,3,5,7],[6,3,6,7],[1,2,1,12],[17,3,17,7],[17,8,17,9],[17,10,17,14],[9,3,9,7],[12,3,12,7],[12,8,12,9],[12,10,12,14],[13,7,14,14],[14,2,14,4],[3,5,3,14],[5,2,6,2],[5,9,9,9],[5,10,5,11],[6,10,7,10]]}
[null,null,{"$f":"データ入力!B1","v":"春季総合体育大会"},{"$f":"合同フラグ","v":false},{"$f":"IF(データ入力!C10=\"その他→\",データ入力!D10,データ入力!C10)&データ入力!C11&データ入力!D11","v":"滋賀県立高島高等学校"},{"$f":"IF(データ入力!G10=\"その他→\",データ入力!H10,データ入力!G10)&データ入力!G11&データ入力!H11","v":"滋賀県立高等学校"}]
[null,null,"この用紙の印刷はエクセルのメニューから行ってください。\n校長印を押印の上、顧問会議でご提出ください。その後、専門部長印を受けた用紙を返却しますので、それをコピーし、当日のメンバー用紙として使用してください。"]
[]
[null,null,"平成",{"$f":"データ入力!C5","v":31},"年度",{"$f":"C1&\"　参加申込書　兼　メンバー用紙（合同チーム）\"","v":"春季総合体育大会　参加申込書　兼　メンバー用紙（合同チーム）"}]
[]
[null,null,"学校名",{"$f":"E1","v":"滋賀県立高島高等学校"},null,null,null,null,null,"ユニホーム",null,null,"シャツ","ショーツ","ソックス"]
[null,null,null,{"$f":"F1","v":"滋賀県立高等学校"},null,null,null,null,null,null,"ＦＰ","正",{"$f":"データ入力!C24","v":0},{"$f":"データ入力!D24","v":0},{"$f":"データ入力!E24","v":0}]
[null,null,"部 長",{"$f":"データ入力!C19","v":0},null,null,null,null,null,null,null,"副",{"$f":"データ入力!C25","v":0},{"$f":"データ入力!D25","v":0},{"$f":"データ入力!E25","v":0}]
[null,null,"監 督",{"$f":"データ入力!C20","v":0},null,null,null,null,null,null,"ＧＫ","正",{"$f":"データ入力!C26","v":0},{"$f":"データ入力!D26","v":0},{"$f":"データ入力!E26","v":0}]
[null,null,"主 将",{"$f":"データ入力!C21","v":0},null,null,null,null,null,null,null,"副",{"$f":"データ入力!C27","v":0},{"$f":"データ入力!D27","v":0},{"$f":"データ入力!E27","v":0}]
[]
[]
[null,null,"大会日","平成　　　　年　　　　月　　　　日",null,null,null,null,"会場"]
[null,null,null,null,null,null,null,"（　本部用　･　相手チーム用　）"]
[null,null,"ベンチ入りスタッフ"]
[null,null,"部 長",null,null,null,null,null,null,null,null,null,null,null,null,null,"大会当日に記入、もしくは手入力。"]
[null,null,"監 督"]
[]
[]
[null,null,null,null,2,3,4,null,10,null,5,6,7,8]
[null,null,"先発","Sub","番号","ポジション","選　手　名",null,"（学校名）",null,"学年","身長","体重","前登録チーム"]
[1,null,null,null,{"$f":"IF(VLOOKUP($A22,選手データ,E$20,0)=0,\"\",ASC(VLOOKUP($A22,選手データ,E$20,0)))","v":"1"},"","",{"$error":"#VALUE!"},"",{"$error":"#VALUE!"},"",{"$f":"IF(VLOOKUP($A22,選手データ,L$20,0)=0,\"\",INT(ASC(VLOOKUP($A22,選手データ,L$20,0))+0.5))","v":""},"","",{"$error":"#VALUE!"}]
[2,null,null,null,"2","","",{"$error":"#VALUE!"},"",{"$error":"#VALUE!"},"","","","",{"$error":"#VALUE!"}]
[3,null,null,null,"3","","",{"$error":"#VALUE!"},"",{"$error":"#VALUE!"},"","","","",{"$error":"#VALUE!"}]
[4,null,null,null,"4","","",{"$error":"#VALUE!"},"",{"$error":"#VALUE!"},"","","","",{"$error":"#VALUE!"}]
[5,null,null,null,"5","","",{"$error":"#VALUE!"},"",{"$error":"#VALUE!"},"","","","",{"$error":"#VALUE!"}]
[6,null,null,null,"6","","",{"$error":"#VALUE!"},"",{"$error":"#VALUE!"},"","","","",{"$error":"#VALUE!"}]
[7,null,null,null,"7","","",{"$error":"#VALUE!"},"",{"$error":"#VALUE!"},"","","","",{"$error":"#VALUE!"}]
[8,null,null,null,"8","","",{"$error":"#VALUE!"},"",{"$error":"#VALUE!"},"","","","",{"$error":"#VALUE!"}]
[9,null,null,null,"9","","",{"$error":"#VALUE!"},"",{"$error":"#VALUE!"},"","","","",{"$error":"#VALUE!"}]
[10,null,null,null,"10","","",{"$error":"#VALUE!"},"",{"$error":"#VALUE!"},"","","","",{"$error":"#VALUE!"}]
[11,null,null,null,{"$f":"IF(VLOOKUP($A32,選手データ,E$20,0)=0,\"\",ASC(VLOOKUP($A32,選手データ,E$20,0)))","v":"11"},"","",{"$error":"#VALUE!"},"",{"$error":"#VALUE!"},"","","","",{"$error":"#VALUE!"}]
[12,null,null,null,"12","","",{"$error":"#VALUE!"},"",{"$error":"#VALUE!"},"","","","",{"$error":"#VALUE!"}]
[13,null,null,null,"13","","",{"$error":"#VALUE!"},"",{"$error":"#VALUE!"},"","","","",{"$error":"#VALUE!"}]
[14,null,null,null,"14","","",{"$error":"#VALUE!"},"",{"$error":"#VALUE!"},"","","","",{"$error":"#VALUE!"}]
[15,null,null,null,"15","","",{"$error":"#VALUE!"},"",{"$error":"#VALUE!"},"","","","",{"$error":"#VALUE!"}]
[16,null,null,null,"16","","",{"$error":"#VALUE!"},"",{"$error":"#VALUE!"},"","","","",{"$error":"#VALUE!"}]
[17,null,null,null,"17","","",{"$error":"#VALUE!"},"",{"$error":"#VALUE!"},"","","","",{"$error":"#VALUE!"}]
[18,null,null,null,"18","","",{"$error":"#VALUE!"},"",{"$error":"#VALUE!"},"","","","",{"$error":"#VALUE!"}]
[19,null,null,null,"19","","",{"$error":"#VALUE!"},"",{"$error":"#VALUE!"},"","","","",{"$error":"#VALUE!"}]
[20,null,null,null,"20","","",{"$error":"#VALUE!"},"",{"$error":"#VALUE!"},"","","","",{"$error":"#VALUE!"}]
[21,null,null,null,"21","","",{"$error":"#VALUE!"},"",{"$error":"#VALUE!"},"","","","",{"$error":"#VALUE!"}]
[22,null,null,null,"22","","",{"$error":"#VALUE!"},"",{"$error":"#VALUE!"},"","","","",{"$error":"#VALUE!"}]
[23,null,null,null,"23","","",{"$error":"#VALUE!"},"",{"$error":"#VALUE!"},"","","","",{"$error":"#VALUE!"}]
[24,null,null,null,"24","","",{"$error":"#VALUE!"},"",{"$error":"#VALUE!"},"","","","",{"$error":"#VALUE!"}]
[25,null,null,null,"25","","",{"$error":"#VALUE!"},"",{"$error":"#VALUE!"},"","","","",{"$error":"#VALUE!"}]
[null,null,"追加･変更選手（選手エントリー変更・追加届を提出）"]
[]
[null,null,null,null,null,null,null,null,null,null,null,null,null,null,null,null,"選手エントリー変更・追加届を提出のうえ"]
[null,null,null,null,null,null,null,null,null,null,null,null,null,null,null,null,"大会当日に記入"]
[]
[]
[]
[null,null,"滋賀県高等学校体育連盟　サッカー専門部長",null,null,null,null,null,null,{"$f":"データ入力!C6","v":"                                             "},null,null,null,null,"様"]
[null,null,"　上記の者は、平成　　　年度　春季総合体育大会（高校サッカーの部）要項の参加資格に相違なく、出場を許可し、ここに参加申し込みををいたします。"]
[]
[null,null,{"$f":"TODAY()","v":"2019-03-28"},null,null,null,null,null,null,null,null,null,null,null,"上記チーム・選手の、大会出場を認める。　","←日付を変更する場合は手入力で変更してください。yyyy/MM/dd"]
[null,null,"学校名"]
[null,null,"校　長",null,null,null,null,null,null,"　㊞",null,null,null,null,"　㊞","←右側の㊞には押印しないでください。"]
[]
[null,null,"学校名",{"$f":"D6&CHAR(10)&D7","v":"滋賀県立高島高等学校\n滋賀県立高等学校"},null,null,null,null,null,null,null,null,null,null,"No.2"]
[]
[null,null,"先発","Sub","番号","ポジション","選　手　名",null,"（学校名）",null,"学年","身長","体重","前登録チーム"]
[26,null,null,null,{"$f":"IF(VLOOKUP($A64,選手データ,E$20,0)=0,\"\",ASC(VLOOKUP($A64,選手データ,E$20,0)))","v":"26"},"","あい うえ",{"$error":"#VALUE!"},"",{"$error":"#VALUE!"},"","123.5","","",{"$error":"#VALUE!"}]
[27,null,null,null,"27","","あい うえ",{"$error":"#VALUE!"},"",{"$error":"#VALUE!"},"","124","","",{"$error":"#VALUE!"}]
[28,null,null,null,"28","","あい うえ",{"$error":"#VALUE!"},"",{"$error":"#VALUE!"},"","124.5","","",{"$error":"#VALUE!"}]
[29,null,null,null,"29","","あい うえ",{"$error":"#VALUE!"},"",{"$error":"#VALUE!"},"","125","","",{"$error":"#VALUE!"}]
[30,null,null,null,"30","","あい うえ",{"$error":"#VALUE!"},"",{"$error":"#VALUE!"},"","125.5","","",{"$error":"#VALUE!"}]
[31,null,null,null,"31","","あい うえ",{"$error":"#VALUE!"},"",{"$error":"#VALUE!"},"","126","","",{"$error":"#VALUE!"}]
[32,null,null,null,"32","","あい うえ",{"$error":"#VALUE!"},"",{"$error":"#VALUE!"},"","126.5","","",{"$error":"#VALUE!"}]
[33,null,null,null,"33","","あい うえ",{"$error":"#VALUE!"},"",{"$error":"#VALUE!"},"","127","","",{"$error":"#VALUE!"}]
[34,null,null,null,"34","","あい うえ",{"$error":"#VALUE!"},"",{"$error":"#VALUE!"},"","127.5","","",{"$error":"#VALUE!"}]
[35,null,null,null,"35","","あい うえ",{"$error":"#VALUE!"},"",{"$error":"#VALUE!"},"","128","","",{"$error":"#VALUE!"}]
[36,null,null,null,{"$f":"IF(VLOOKUP($A74,選手データ,E$20,0)=0,\"\",ASC(VLOOKUP($A74,選手データ,E$20,0)))","v":"36"},"","あい うえ",{"$error":"#VALUE!"},"",{"$error":"#VALUE!"},"","128.5","","",{"$error":"#VALUE!"}]
[37,null,null,null,"37","","あい うえ",{"$error":"#VALUE!"},"",{"$error":"#VALUE!"},"","129","","",{"$error":"#VALUE!"}]
[38,null,null,null,"38","","あい うえ",{"$error":"#VALUE!"},"",{"$error":"#VALUE!"},"","129.5","","",{"$error":"#VALUE!"}]
[39,null,null,null,"39","","あい うえ",{"$error":"#VALUE!"},"",{"$error":"#VALUE!"},"","130","","",{"$error":"#VALUE!"}]
[40,null,null,null,"40","","あい うえ",{"$error":"#VALUE!"},"",{"$error":"#VALUE!"},"","130.5","","",{"$error":"#VALUE!"}]
[41,null,null,null,"41","","あい うえ",{"$error":"#VALUE!"},"",{"$error":"#VALUE!"},"","131","","",{"$error":"#VALUE!"}]
[42,null,null,null,"42","","あい うえ",{"$error":"#VALUE!"},"",{"$error":"#VALUE!"},"","131.5","","",{"$error":"#VALUE!"}]
[43,null,null,null,"43","","あい うえ",{"$error":"#VALUE!"},"",{"$error":"#VALUE!"},"","132","","",{"$error":"#VALUE!"}]
[44,null,null,null,"44","","あい うえ",{"$error":"#VALUE!"},"",{"$error":"#VALUE!"},"","132.5","","",{"$error":"#VALUE!"}]
[45,null,null,null,"45","","あい うえ",{"$error":"#VALUE!"},"",{"$error":"#VALUE!"},"","133","","",{"$error":"#VALUE!"}]
[46,null,null,null,"46","","あい うえ",{"$error":"#VALUE!"},"",{"$error":"#VALUE!"},"","133.5","","",{"$error":"#VALUE!"}]
[47,null,null,null,"47","","あい うえ",{"$error":"#VALUE!"},"",{"$error":"#VALUE!"},"","134","","",{"$error":"#VALUE!"}]
[48,null,null,null,"48","","あい うえ",{"$error":"#VALUE!"},"",{"$error":"#VALUE!"},"","134.5","","",{"$error":"#VALUE!"}]
[49,null,null,null,"49","","あい うえ",{"$error":"#VALUE!"},"",{"$error":"#VALUE!"},"","135","","",{"$error":"#VALUE!"}]
[50,null,null,null,"50","","あい うえ",{"$error":"#VALUE!"},"",{"$error":"#VALUE!"},"","135.5","","",{"$error":"#VALUE!"}]
[]
[null,null,null,null,null,null,null,null,null,null,null,null,null,"上記チーム・選手の、大会出場を認める。　","㊞","←右側の㊞には押印しないでください。"]

{"sheet":"パンフレット","index":4,"n_rows":42,"n_cols":30,"rows_kept":42,"cut":false,"hidden":true,"merged":[[0,0,0,6],[0,13,0,14],[1,0,3,12],[1,13,1,14],[1,16,1,22],[1,23,4,27],[2,13,2,14],[2,16,2,22],[3,13,3,14],[3,16,3,22],[4,9,4,12],[4,13,4,14],[4,16,4,22],[0,16,0,27],[6,1,6,2],[6,3,6,4],[6,5,6,6],[6,7,6,9],[6,12,12,26],[10,1,10,2],[10,3,10,4],[10,5,10,6],[10,7,10,9],[11,1,11,2],[11,3,11,4],[11,5,11,6],[11,7,11,9],[7,1,7,2],[7,3,7,4],[7,5,7,6],[7,7,7,9],[8,1,8,2],[8,3,8,4],[8,5,8,6],[8,7,8,9],[12,1,12,2],[12,3,12,4],[12,5,12,6],[12,7,12,9],[14,0,14,27],[16,0,17,0],[16,1,17,1],[16,2,17,6],[16,13,17,13],[16,14,17,14],[16,15,17,21],[17,7,17,9],[17,10,17,12],[17,22,17,24],[17,25,17,27],[19,25,19,27],[20,0,21,0],[20,1,21,1],[20,2,21,6],[20,13,21,13],[20,14,21,14],[20,15,21,21],[21,7,21,9],[21,10,21,12],[21,22,21,24],[21,25,21,27],[18,0,19,0],[18,1,19,1],[18,2,19,6],[18,13,19,13],[18,14,19,14],[18,15,19,21],[19,7,19,9],[19,10,19,12],[19,22,19,24],[23,25,23,27],[24,0,25,0],[24,1,25,1],[24,2,25,6],[24,13,25,13],[24,14,25,14],[24,15,25,21],[25,7,25,9],[25,10,25,12],[25,22,25,24],[25,25,25,27],[22,0,23,0],[22,1,23,1],[22,2,23,6],[22,13,23,13],[22,14,23,14],[22,15,23,21],[23,7,23,9],[23,10,23,12],[23,22,23,24],[27,25,27,27],[28,0,29,0],[28,1,29,1],[28,2,29,6],[28,13,29,13],[28,14,29,14],[28,15,29,21],[29,7,29,9],[29,10,29,12],[29,22,29,24],[29,25,29,27],[26,0,27,0],[26,1,27,1],[26,2,27,6],[26,13,27,13],[26,14,27,14],[26,15,27,21],[27,7,27,9],[27,10,27,12],[27,22,27,24],[31,25,31,27],[32,0,33,0],[32,1,33,1],[32,2,33,6],[32,13,33,13],[32,14,33,14],[32,15,33,21],[33,7,33,9],[33,10,33,12],[33,22,33,24],[33,25,33,27],[30,0,31,0],[30,1,31,1],[30,2,31,6],[30,13,31,13],[30,14,31,14],[30,15,31,21],[31,7,31,9],[31,10,31,12],[31,22,31,24],[34,0,35,0],[34,1,35,1],[34,2,35,6],[34,13,35,13],[34,14,35,14],[37,25,37,27],[38,0,39,0],[38,1,39,1],[38,2,39,6],[38,13,39,13],[38,14,39,14],[34,15,35,21],[35,7,35,9],[35,10,35,12],[35,22,35,24],[35,25,35,27],[36,0,37,0],[36,1,37,1],[36,2,37,6],[36,13,37,13],[36,14,37,14],[40,0,41,0],[40,1,41,1],[40,2,41,6],[40,13,41,13],[40,14,41,14],[36,15,37,21],[37,7,37,9],[37,10,37,12],[37,22,37,24],[40,15,41,21],[40,22,40,23],[40,24,40,25],[40,26,40,27],[41,7,41,9],[41,10,41,12],[41,22,41,24],[41,25,41,27],[38,15,39,21],[39,7,39,9],[39,10,39,12],[39,22,39,24],[39,25,39,27]]}
[{"$f":"IF(データ入力!C10=\"滋賀県立\",\"滋賀県立\",IF(データ入力!D10=\"\",\"\",データ入力!D10))","v":"滋賀県立"},null,null,null,null,null,null,null,null,null,null,null,null,"所在地",null,"／",{"$f":"\"〒\"&データ入力!C12&\"　\"&データ入力!C13","v":"〒　"},null,null,null,null,null,null,null,null,null,null,null,null,"「データ入力」シートに戻る場合は"]
[{"$f":"データ入力!C11","v":"高島"},null,null,null,null,null,null,null,null,null,null,null,null,"電話番号",null,"／",{"$f":"データ入力!C14","v":0},null,null,null,null,null,null,null,null,null,null,null,null,"いつも通りエクセルの下のタブを"]
[null,null,null,null,null,null,null,null,null,null,null,null,null,"部長名",null,"／",{"$f":"データ入力!C19","v":0},null,null,null,null,null,null,null,null,null,null,null,null,"選択してください。"]
[null,null,null,null,null,null,null,null,null,null,null,null,null,"監督名",null,"／",{"$f":"データ入力!C20","v":0}]
[null,null,null,null,null,null,null,null,null,{"$f":"データ入力!D11","v":"高等学校"},null,null,null,"主将名",null,"／",{"$f":"データ入力!C21","v":0}]
[]
[null,"FP",null,"シャツ",null,"ショーツ",null,"ソックス",null,null,null,null,{"$f":"データ入力!C15","v":0}]
[null,"正",null,{"$f":"データ入力!C24","v":0},null,{"$f":"データ入力!D24","v":0},null,{"$f":"データ入力!E24","v":0}]
[null,"副",null,{"$f":"データ入力!C25","v":0},null,{"$f":"データ入力!D25","v":0},null,{"$f":"データ入力!E25","v":0}]
[]
[null,"ＧＫ",null,"シャツ",null,"ショーツ",null,"ソックス"]
[null,"正",null,{"$f":"データ入力!C26","v":0},null,{"$f":"データ入力!D26","v":0},null,{"$f":"データ入力!E26","v":0}]
[null,"副",null,{"$f":"データ入力!C27","v":0},null,{"$f":"データ入力!D27","v":0},null,{"$f":"データ入力!E27","v":0}]
[]
[]
[]
[1,{"$f":"IF(VLOOKUP(A17,選手データ,3,0)=0,\"\",ASC(VLOOKUP(A17,選手データ,3,0)))","v":""},{"$f":"IF(VLOOKUP(A17,選手データ,4,0)=0,\"\",VLOOKUP(A17,選手データ,4,0))","v":""},null,null,null,null,{"$f":"IF(VLOOKUP(A17,選手データ,5,0)=0,\"\",VLOOKUP(A17,選手データ,5,0))","v":""},{"$f":"IF(C17=\"\",\"\",\"年\")","v":""},{"$f":"IF(VLOOKUP(A17,選手データ,6,0)=0,\"\",VLOOKUP(A17,選手データ,6,0))","v":""},{"$f":"IF(C17=\"\",\"\",\"cm\")","v":""},{"$f":"IF(VLOOKUP(A17,選手データ,7,0)=0,\"\",VLOOKUP(A17,選手データ,7,0))","v":""},{"$f":"IF(C17=\"\",\"\",\"kg\")","v":""},14,{"$f":"IF(VLOOKUP(N17,選手データ,3,0)=0,\"\",ASC(VLOOKUP(N17,選手データ,3,0)))","v":""},{"$f":"IF(VLOOKUP(N17,選手データ,4,0)=0,\"\",VLOOKUP(N17,選手データ,4,0))","v":""},null,null,null,null,null,null,{"$f":"IF(VLOOKUP(N17,選手データ,5,0)=0,\"\",VLOOKUP(N17,選手データ,5,0))","v":""},{"$f":"IF(P17=\"\",\"\",\"年\")","v":""},{"$f":"IF(VLOOKUP(N17,選手データ,6,0)=0,\"\",VLOOKUP(N17,選手データ,6,0))","v":""},{"$f":"IF(P17=\"\",\"\",\"cm\")","v":""},{"$f":"IF(VLOOKUP(N17,選手データ,7,0)=0,\"\",VLOOKUP(N17,選手データ,7,0))","v":""},{"$f":"IF(P17=\"\",\"\",\"kg\")","v":""}]
[null,null,null,null,null,null,null,{"$f":"IF(VLOOKUP(A17,選手データ,8,0)=0,\"\",VLOOKUP(A17,選手データ,8,0))","v":""},null,null,{"$f":"IF(VLOOKUP(A17,選手データ,9,0)=0,\"\",VLOOKUP(A17,選手データ,9,0))","v":"さしすせそ"},null,null,null,null,null,null,null,null,null,null,null,{"$f":"IF(VLOOKUP(N17,選手データ,8,0)=0,\"\",VLOOKUP(N17,選手データ,8,0))","v":""},null,null,{"$f":"IF(VLOOKUP(N17,選手データ,9,0)=0,\"\",VLOOKUP(N17,選手データ,9,0))","v":"さしすせそ"}]
[2,{"$f":"IF(VLOOKUP(A19,選手データ,3,0)=0,\"\",ASC(VLOOKUP(A19,選手データ,3,0)))","v":""},{"$f":"IF(VLOOKUP(A19,選手データ,4,0)=0,\"\",VLOOKUP(A19,選手データ,4,0))","v":""},null,null,null,null,{"$f":"IF(VLOOKUP(A19,選手データ,5,0)=0,\"\",VLOOKUP(A19,選手データ,5,0))","v":""},{"$f":"IF(C19=\"\",\"\",\"年\")","v":""},{"$f":"IF(VLOOKUP(A19,選手データ,6,0)=0,\"\",VLOOKUP(A19,選手データ,6,0))","v":""},{"$f":"IF(C19=\"\",\"\",\"cm\")","v":""},{"$f":"IF(VLOOKUP(A19,選手データ,7,0)=0,\"\",VLOOKUP(A19,選手データ,7,0))","v":""},{"$f":"IF(C19=\"\",\"\",\"kg\")","v":""},15,{"$f":"IF(VLOOKUP(N19,選手データ,3,0)=0,\"\",ASC(VLOOKUP(N19,選手データ,3,0)))","v":""},{"$f":"IF(VLOOKUP(N19,選手データ,4,0)=0,\"\",VLOOKUP(N19,選手データ,4,0))","v":""},null,null,null,null,null,null,{"$f":"IF(VLOOKUP(N19,選手データ,5,0)=0,\"\",VLOOKUP(N19,選手データ,5,0))","v":""},{"$f":"IF(P19=\"\",\"\",\"年\")","v":""},{"$f":"IF(VLOOKUP(N19,選手データ,6,0)=0,\"\",VLOOKUP(N19,選手データ,6,0))","v":""},{"$f":"IF(P19=\"\",\"\",\"cm\")","v":""},{"$f":"IF(VLOOKUP(N19,選手データ,7,0)=0,\"\",VLOOKUP(N19,選手データ,7,0))","v":""},{"$f":"IF(P19=\"\",\"\",\"kg\")","v":""}]
[null,null,null,null,null,null,null,{"$f":"IF(VLOOKUP(A19,選手データ,8,0)=0,\"\",VLOOKUP(A19,選手データ,8,0))","v":""},null,null,{"$f":"IF(VLOOKUP(A19,選手データ,9,0)=0,\"\",VLOOKUP(A19,選手データ,9,0))","v":"さしすせそ"},null,null,null,null,null,null,null,null,null,null,null,{"$f":"IF(VLOOKUP(N19,選手データ,8,0)=0,\"\",VLOOKUP(N19,選手データ,8,0))","v":""},null,null,{"$f":"IF(VLOOKUP(N19,選手データ,9,0)=0,\"\",VLOOKUP(N19,選手データ,9,0))","v":"さしすせそ"}]
[3,{"$f":"IF(VLOOKUP(A21,選手データ,3,0)=0,\"\",ASC(VLOOKUP(A21,選手データ,3,0)))","v":""},{"$f":"IF(VLOOKUP(A21,選手データ,4,0)=0,\"\",VLOOKUP(A21,選手データ,4,0))","v":""},null,null,null,null,{"$f":"IF(VLOOKUP(A21,選手データ,5,0)=0,\"\",VLOOKUP(A21,選手データ,5,0))","v":""},{"$f":"IF(C21=\"\",\"\",\"年\")","v":""},{"$f":"IF(VLOOKUP(A21,選手データ,6,0)=0,\"\",VLOOKUP(A21,選手データ,6,0))","v":""},{"$f":"IF(C21=\"\",\"\",\"cm\")","v":""},{"$f":"IF(VLOOKUP(A21,選手データ,7,0)=0,\"\",VLOOKUP(A21,選手データ,7,0))","v":""},{"$f":"IF(C21=\"\",\"\",\"kg\")","v":""},16,{"$f":"IF(VLOOKUP(N21,選手データ,3,0)=0,\"\",ASC(VLOOKUP(N21,選手データ,3,0)))","v":""},{"$f":"IF(VLOOKUP(N21,選手データ,4,0)=0,\"\",VLOOKUP(N21,選手データ,4,0))","v":""},null,null,null,null,null,null,{"$f":"IF(VLOOKUP(N21,選手データ,5,0)=0,\"\",VLOOKUP(N21,選手データ,5,0))","v":""},{"$f":"IF(P21=\"\",\"\",\"年\")","v":""},{"$f":"IF(VLOOKUP(N21,選手データ,6,0)=0,\"\",VLOOKUP(N21,選手データ,6,0))","v":""},{"$f":"IF(P21=\"\",\"\",\"cm\")","v":""},{"$f":"IF(VLOOKUP(N21,選手データ,7,0)=0,\"\",VLOOKUP(N21,選手データ,7,0))","v":""},{"$f":"IF(P21=\"\",\"\",\"kg\")","v":""}]
[null,null,null,null,null,null,null,{"$f":"IF(VLOOKUP(A21,選手データ,8,0)=0,\"\",VLOOKUP(A21,選手データ,8,0))","v":""},null,null,{"$f":"IF(VLOOKUP(A21,選手データ,9,0)=0,\"\",VLOOKUP(A21,選手データ,9,0))","v":"さしすせそ"},null,null,null,null,null,null,null,null,null,null,null,{"$f":"IF(VLOOKUP(N21,選手データ,8,0)=0,\"\",VLOOKUP(N21,選手データ,8,0))","v":""},null,null,{"$f":"IF(VLOOKUP(N21,選手データ,9,0)=0,\"\",VLOOKUP(N21,選手データ,9,0))","v":"さしすせそ"}]
[4,{"$f":"IF(VLOOKUP(A23,選手データ,3,0)=0,\"\",ASC(VLOOKUP(A23,選手データ,3,0)))","v":""},{"$f":"IF(VLOOKUP(A23,選手データ,4,0)=0,\"\",VLOOKUP(A23,選手データ,4,0))","v":""},null,null,null,null,{"$f":"IF(VLOOKUP(A23,選手データ,5,0)=0,\"\",VLOOKUP(A23,選手データ,5,0))","v":""},{"$f":"IF(C23=\"\",\"\",\"年\")","v":""},{"$f":"IF(VLOOKUP(A23,選手データ,6,0)=0,\"\",VLOOKUP(A23,選手データ,6,0))","v":""},{"$f":"IF(C23=\"\",\"\",\"cm\")","v":""},{"$f":"IF(VLOOKUP(A23,選手データ,7,0)=0,\"\",VLOOKUP(A23,選手データ,7,0))","v":""},{"$f":"IF(C23=\"\",\"\",\"kg\")","v":""},17,{"$f":"IF(VLOOKUP(N23,選手データ,3,0)=0,\"\",ASC(VLOOKUP(N23,選手データ,3,0)))","v":""},{"$f":"IF(VLOOKUP(N23,選手データ,4,0)=0,\"\",VLOOKUP(N23,選手データ,4,0))","v":""},null,null,null,null,null,null,{"$f":"IF(VLOOKUP(N23,選手データ,5,0)=0,\"\",VLOOKUP(N23,選手データ,5,0))","v":""},{"$f":"IF(P23=\"\",\"\",\"年\")","v":""},{"$f":"IF(VLOOKUP(N23,選手データ,6,0)=0,\"\",VLOOKUP(N23,選手データ,6,0))","v":""},{"$f":"IF(P23=\"\",\"\",\"cm\")","v":""},{"$f":"IF(VLOOKUP(N23,選手データ,7,0)=0,\"\",VLOOKUP(N23,選手データ,7,0))","v":""},{"$f":"IF(P23=\"\",\"\",\"kg\")","v":""}]
[null,null,null,null,null,null,null,{"$f":"IF(VLOOKUP(A23,選手データ,8,0)=0,\"\",VLOOKUP(A23,選手データ,8,0))","v":""},null,null,{"$f":"IF(VLOOKUP(A23,選手データ,9,0)=0,\"\",VLOOKUP(A23,選手データ,9,0))","v":"さしすせそ"},null,null,null,null,null,null,null,null,null,null,null,{"$f":"IF(VLOOKUP(N23,選手データ,8,0)=0,\"\",VLOOKUP(N23,選手データ,8,0))","v":""},null,null,{"$f":"IF(VLOOKUP(N23,選手データ,9,0)=0,\"\",VLOOKUP(N23,選手データ,9,0))","v":""}]
[5,{"$f":"IF(VLOOKUP(A25,選手データ,3,0)=0,\"\",ASC(VLOOKUP(A25,選手データ,3,0)))","v":""},{"$f":"IF(VLOOKUP(A25,選手データ,4,0)=0,\"\",VLOOKUP(A25,選手データ,4,0))","v":""},null,null,null,null,{"$f":"IF(VLOOKUP(A25,選手データ,5,0)=0,\"\",VLOOKUP(A25,選手データ,5,0))","v":""},{"$f":"IF(C25=\"\",\"\",\"年\")","v":""},{"$f":"IF(VLOOKUP(A25,選手データ,6,0)=0,\"\",VLOOKUP(A25,選手データ,6,0))","v":""},{"$f":"IF(C25=\"\",\"\",\"cm\")","v":""},{"$f":"IF(VLOOKUP(A25,選手データ,7,0)=0,\"\",VLOOKUP(A25,選手データ,7,0))","v":""},{"$f":"IF(C25=\"\",\"\",\"kg\")","v":""},18,{"$f":"IF(VLOOKUP(N25,選手データ,3,0)=0,\"\",ASC(VLOOKUP(N25,選手データ,3,0)))","v":""},{"$f":"IF(VLOOKUP(N25,選手データ,4,0)=0,\"\",VLOOKUP(N25,選手データ,4,0))","v":""},null,null,null,null,null,null,{"$f":"IF(VLOOKUP(N25,選手データ,5,0)=0,\"\",VLOOKUP(N25,選手データ,5,0))","v":""},{"$f":"IF(P25=\"\",\"\",\"年\")","v":""},{"$f":"IF(VLOOKUP(N25,選手データ,6,0)=0,\"\",VLOOKUP(N25,選手データ,6,0))","v":""},{"$f":"IF(P25=\"\",\"\",\"cm\")","v":""},{"$f":"IF(VLOOKUP(N25,選手データ,7,0)=0,\"\",VLOOKUP(N25,選手データ,7,0))","v":""},{"$f":"IF(P25=\"\",\"\",\"kg\")","v":""}]
[null,null,null,null,null,null,null,{"$f":"IF(VLOOKUP(A25,選手データ,8,0)=0,\"\",VLOOKUP(A25,選手データ,8,0))","v":""},null,null,{"$f":"IF(VLOOKUP(A25,選手データ,9,0)=0,\"\",VLOOKUP(A25,選手データ,9,0))","v":"さしすせそ"},null,null,null,null,null,null,null,null,null,null,null,{"$f":"IF(VLOOKUP(N25,選手データ,8,0)=0,\"\",VLOOKUP(N25,選手データ,8,0))","v":""},null,null,{"$f":"IF(VLOOKUP(N25,選手データ,9,0)=0,\"\",VLOOKUP(N25,選手データ,9,0))","v":"さしすせそ"}]
[6,{"$f":"IF(VLOOKUP(A27,選手データ,3,0)=0,\"\",ASC(VLOOKUP(A27,選手データ,3,0)))","v":""},{"$f":"IF(VLOOKUP(A27,選手データ,4,0)=0,\"\",VLOOKUP(A27,選手データ,4,0))","v":""},null,null,null,null,{"$f":"IF(VLOOKUP(A27,選手データ,5,0)=0,\"\",VLOOKUP(A27,選手データ,5,0))","v":""},{"$f":"IF(C27=\"\",\"\",\"年\")","v":""},{"$f":"IF(VLOOKUP(A27,選手データ,6,0)=0,\"\",VLOOKUP(A27,選手データ,6,0))","v":""},{"$f":"IF(C27=\"\",\"\",\"cm\")","v":""},{"$f":"IF(VLOOKUP(A27,選手データ,7,0)=0,\"\",VLOOKUP(A27,選手データ,7,0))","v":""},{"$f":"IF(C27=\"\",\"\",\"kg\")","v":""},19,{"$f":"IF(VLOOKUP(N27,選手データ,3,0)=0,\"\",ASC(VLOOKUP(N27,選手データ,3,0)))","v":""},{"$f":"IF(VLOOKUP(N27,選手データ,4,0)=0,\"\",VLOOKUP(N27,選手データ,4,0))","v":""},null,null,null,null,null,null,{"$f":"IF(VLOOKUP(N27,選手データ,5,0)=0,\"\",VLOOKUP(N27,選手データ,5,0))","v":""},{"$f":"IF(P27=\"\",\"\",\"年\")","v":""},{"$f":"IF(VLOOKUP(N27,選手データ,6,0)=0,\"\",VLOOKUP(N27,選手データ,6,0))","v":""},{"$f":"IF(P27=\"\",\"\",\"cm\")","v":""},{"$f":"IF(VLOOKUP(N27,選手データ,7,0)=0,\"\",VLOOKUP(N27,選手データ,7,0))","v":""},{"$f":"IF(P27=\"\",\"\",\"kg\")","v":""}]
[null,null,null,null,null,null,null,{"$f":"IF(VLOOKUP(A27,選手データ,8,0)=0,\"\",VLOOKUP(A27,選手データ,8,0))","v":""},null,null,{"$f":"IF(VLOOKUP(A27,選手データ,9,0)=0,\"\",VLOOKUP(A27,選手データ,9,0))","v":"さしすせそ"},null,null,null,null,null,null,null,null,null,null,null,{"$f":"IF(VLOOKUP(N27,選手データ,8,0)=0,\"\",VLOOKUP(N27,選手データ,8,0))","v":""},null,null,{"$f":"IF(VLOOKUP(N27,選手データ,9,0)=0,\"\",VLOOKUP(N27,選手データ,9,0))","v":"さしすせそ"}]
[7,{"$f":"IF(VLOOKUP(A29,選手データ,3,0)=0,\"\",ASC(VLOOKUP(A29,選手データ,3,0)))","v":""},{"$f":"IF(VLOOKUP(A29,選手データ,4,0)=0,\"\",VLOOKUP(A29,選手データ,4,0))","v":""},null,null,null,null,{"$f":"IF(VLOOKUP(A29,選手データ,5,0)=0,\"\",VLOOKUP(A29,選手データ,5,0))","v":""},{"$f":"IF(C29=\"\",\"\",\"年\")","v":""},{"$f":"IF(VLOOKUP(A29,選手データ,6,0)=0,\"\",VLOOKUP(A29,選手データ,6,0))","v":""},{"$f":"IF(C29=\"\",\"\",\"cm\")","v":""},{"$f":"IF(VLOOKUP(A29,選手データ,7,0)=0,\"\",VLOOKUP(A29,選手データ,7,0))","v":""},{"$f":"IF(C29=\"\",\"\",\"kg\")","v":""},20,{"$f":"IF(VLOOKUP(N29,選手データ,3,0)=0,\"\",ASC(VLOOKUP(N29,選手データ,3,0)))","v":""},{"$f":"IF(VLOOKUP(N29,選手データ,4,0)=0,\"\",VLOOKUP(N29,選手データ,4,0))","v":""},null,null,null,null,null,null,{"$f":"IF(VLOOKUP(N29,選手データ,5,0)=0,\"\",VLOOKUP(N29,選手データ,5,0))","v":""},{"$f":"IF(P29=\"\",\"\",\"年\")","v":""},{"$f":"IF(VLOOKUP(N29,選手データ,6,0)=0,\"\",VLOOKUP(N29,選手データ,6,0))","v":""},{"$f":"IF(P29=\"\",\"\",\"cm\")","v":""},{"$f":"IF(VLOOKUP(N29,選手データ,7,0)=0,\"\",VLOOKUP(N29,選手データ,7,0))","v":""},{"$f":"IF(P29=\"\",\"\",\"kg\")","v":""}]
[null,null,null,null,null,null,null,{"$f":"IF(VLOOKUP(A29,選手データ,8,0)=0,\"\",VLOOKUP(A29,選手データ,8,0))","v":""},null,null,{"$f":"IF(VLOOKUP(A29,選手データ,9,0)=0,\"\",VLOOKUP(A29,選手データ,9,0))","v":"さしすせそ"},null,null,null,null,null,null,null,null,null,null,null,{"$f":"IF(VLOOKUP(N29,選手データ,8,0)=0,\"\",VLOOKUP(N29,選手データ,8,0))","v":""},null,null,{"$f":"IF(VLOOKUP(N29,選手データ,9,0)=0,\"\",VLOOKUP(N29,選手データ,9,0))","v":"さしすせそ"}]
[8,{"$f":"IF(VLOOKUP(A31,選手データ,3,0)=0,\"\",ASC(VLOOKUP(A31,選手データ,3,0)))","v":""},{"$f":"IF(VLOOKUP(A31,選手データ,4,0)=0,\"\",VLOOKUP(A31,選手データ,4,0))","v":""},null,null,null,null,{"$f":"IF(VLOOKUP(A31,選手データ,5,0)=0,\"\",VLOOKUP(A31,選手データ,5,0))","v":""},{"$f":"IF(C31=\"\",\"\",\"年\")","v":""},{"$f":"IF(VLOOKUP(A31,選手データ,6,0)=0,\"\",VLOOKUP(A31,選手データ,6,0))","v":""},{"$f":"IF(C31=\"\",\"\",\"cm\")","v":""},{"$f":"IF(VLOOKUP(A31,選手データ,7,0)=0,\"\",VLOOKUP(A31,選手データ,7,0))","v":""},{"$f":"IF(C31=\"\",\"\",\"kg\")","v":""},21,{"$f":"IF(VLOOKUP(N31,選手データ,3,0)=0,\"\",ASC(VLOOKUP(N31,選手データ,3,0)))","v":""},{"$f":"IF(VLOOKUP(N31,選手データ,4,0)=0,\"\",VLOOKUP(N31,選手データ,4,0))","v":""},null,null,null,null,null,null,{"$f":"IF(VLOOKUP(N31,選手データ,5,0)=0,\"\",VLOOKUP(N31,選手データ,5,0))","v":""},{"$f":"IF(P31=\"\",\"\",\"年\")","v":""},{"$f":"IF(VLOOKUP(N31,選手データ,6,0)=0,\"\",VLOOKUP(N31,選手データ,6,0))","v":""},{"$f":"IF(P31=\"\",\"\",\"cm\")","v":""},{"$f":"IF(VLOOKUP(N31,選手データ,7,0)=0,\"\",VLOOKUP(N31,選手データ,7,0))","v":""},{"$f":"IF(P31=\"\",\"\",\"kg\")","v":""}]
[null,null,null,null,null,null,null,{"$f":"IF(VLOOKUP(A31,選手データ,8,0)=0,\"\",VLOOKUP(A31,選手データ,8,0))","v":""},null,null,{"$f":"IF(VLOOKUP(A31,選手データ,9,0)=0,\"\",VLOOKUP(A31,選手データ,9,0))","v":"さしすせそ"},null,null,null,null,null,null,null,null,null,null,null,{"$f":"IF(VLOOKUP(N31,選手データ,8,0)=0,\"\",VLOOKUP(N31,選手データ,8,0))","v":""},null,null,{"$f":"IF(VLOOKUP(N31,選手データ,9,0)=0,\"\",VLOOKUP(N31,選手データ,9,0))","v":"さしすせそ"}]
[9,{"$f":"IF(VLOOKUP(A33,選手データ,3,0)=0,\"\",ASC(VLOOKUP(A33,選手データ,3,0)))","v":""},{"$f":"IF(VLOOKUP(A33,選手データ,4,0)=0,\"\",VLOOKUP(A33,選手データ,4,0))","v":""},null,null,null,null,{"$f":"IF(VLOOKUP(A33,選手データ,5,0)=0,\"\",VLOOKUP(A33,選手データ,5,0))","v":""},{"$f":"IF(C33=\"\",\"\",\"年\")","v":""},{"$f":"IF(VLOOKUP(A33,選手データ,6,0)=0,\"\",VLOOKUP(A33,選手データ,6,0))","v":""},{"$f":"IF(C33=\"\",\"\",\"cm\")","v":""},{"$f":"IF(VLOOKUP(A33,選手データ,7,0)=0,\"\",VLOOKUP(A33,選手データ,7,0))","v":""},{"$f":"IF(C33=\"\",\"\",\"kg\")","v":""},22,{"$f":"IF(VLOOKUP(N33,選手データ,3,0)=0,\"\",ASC(VLOOKUP(N33,選手データ,3,0)))","v":""},{"$f":"IF(VLOOKUP(N33,選手データ,4,0)=0,\"\",VLOOKUP(N33,選手データ,4,0))","v":""},null,null,null,null,null,null,{"$f":"IF(VLOOKUP(N33,選手データ,5,0)=0,\"\",VLOOKUP(N33,選手データ,5,0))","v":""},{"$f":"IF(P33=\"\",\"\",\"年\")","v":""},{"$f":"IF(VLOOKUP(N33,選手データ,6,0)=0,\"\",VLOOKUP(N33,選手データ,6,0))","v":""},{"$f":"IF(P33=\"\",\"\",\"cm\")","v":""},{"$f":"IF(VLOOKUP(N33,選手データ,7,0)=0,\"\",VLOOKUP(N33,選手データ,7,0))","v":""},{"$f":"IF(P33=\"\",\"\",\"kg\")","v":""}]
[null,null,null,null,null,null,null,{"$f":"IF(VLOOKUP(A33,選手データ,8,0)=0,\"\",VLOOKUP(A33,選手データ,8,0))","v":""},null,null,{"$f":"IF(VLOOKUP(A33,選手データ,9,0)=0,\"\",VLOOKUP(A33,選手データ,9,0))","v":"さしすせそ"},null,null,null,null,null,null,null,null,null,null,null,{"$f":"IF(VLOOKUP(N33,選手データ,8,0)=0,\"\",VLOOKUP(N33,選手データ,8,0))","v":""},null,null,{"$f":"IF(VLOOKUP(N33,選手データ,9,0)=0,\"\",VLOOKUP(N33,選手データ,9,0))","v":"さしすせそ"}]
[10,{"$f":"IF(VLOOKUP(A35,選手データ,3,0)=0,\"\",ASC(VLOOKUP(A35,選手データ,3,0)))","v":""},{"$f":"IF(VLOOKUP(A35,選手データ,4,0)=0,\"\",VLOOKUP(A35,選手データ,4,0))","v":""},null,null,null,null,{"$f":"IF(VLOOKUP(A35,選手データ,5,0)=0,\"\",VLOOKUP(A35,選手データ,5,0))","v":""},{"$f":"IF(C35=\"\",\"\",\"年\")","v":""},{"$f":"IF(VLOOKUP(A35,選手データ,6,0)=0,\"\",VLOOKUP(A35,選手データ,6,0))","v":""},{"$f":"IF(C35=\"\",\"\",\"cm\")","v":""},{"$f":"IF(VLOOKUP(A35,選手データ,7,0)=0,\"\",VLOOKUP(A35,選手データ,7,0))","v":""},{"$f":"IF(C35=\"\",\"\",\"kg\")","v":""},23,{"$f":"IF(VLOOKUP(N35,選手データ,3,0)=0,\"\",ASC(VLOOKUP(N35,選手データ,3,0)))","v":""},{"$f":"IF(VLOOKUP(N35,選手データ,4,0)=0,\"\",VLOOKUP(N35,選手データ,4,0))","v":""},null,null,null,null,null,null,{"$f":"IF(VLOOKUP(N35,選手データ,5,0)=0,\"\",VLOOKUP(N35,選手データ,5,0))","v":""},{"$f":"IF(P35=\"\",\"\",\"年\")","v":""},{"$f":"IF(VLOOKUP(N35,選手データ,6,0)=0,\"\",VLOOKUP(N35,選手データ,6,0))","v":""},{"$f":"IF(P35=\"\",\"\",\"cm\")","v":""},{"$f":"IF(VLOOKUP(N35,選手データ,7,0)=0,\"\",VLOOKUP(N35,選手データ,7,0))","v":""},{"$f":"IF(P35=\"\",\"\",\"kg\")","v":""}]
[null,null,null,null,null,null,null,{"$f":"IF(VLOOKUP(A35,選手データ,8,0)=0,\"\",VLOOKUP(A35,選手データ,8,0))","v":""},null,null,{"$f":"IF(VLOOKUP(A35,選手データ,9,0)=0,\"\",VLOOKUP(A35,選手データ,9,0))","v":"さしすせそ"},null,null,null,null,null,null,null,null,null,null,null,{"$f":"IF(VLOOKUP(N35,選手データ,8,0)=0,\"\",VLOOKUP(N35,選手データ,8,0))","v":""},null,null,{"$f":"IF(VLOOKUP(N35,選手データ,9,0)=0,\"\",VLOOKUP(N35,選手データ,9,0))","v":"さしすせそ"}]
[11,{"$f":"IF(VLOOKUP(A37,選手データ,3,0)=0,\"\",ASC(VLOOKUP(A37,選手データ,3,0)))","v":""},{"$f":"IF(VLOOKUP(A37,選手データ,4,0)=0,\"\",VLOOKUP(A37,選手データ,4,0))","v":""},null,null,null,null,{"$f":"IF(VLOOKUP(A37,選手データ,5,0)=0,\"\",VLOOKUP(A37,選手データ,5,0))","v":""},{"$f":"IF(C37=\"\",\"\",\"年\")","v":""},{"$f":"IF(VLOOKUP(A37,選手データ,6,0)=0,\"\",VLOOKUP(A37,選手データ,6,0))","v":""},{"$f":"IF(C37=\"\",\"\",\"cm\")","v":""},{"$f":"IF(VLOOKUP(A37,選手データ,7,0)=0,\"\",VLOOKUP(A37,選手データ,7,0))","v":""},{"$f":"IF(C37=\"\",\"\",\"kg\")","v":""},24,{"$f":"IF(VLOOKUP(N37,選手データ,3,0)=0,\"\",ASC(VLOOKUP(N37,選手データ,3,0)))","v":""},{"$f":"IF(VLOOKUP(N37,選手データ,4,0)=0,\"\",VLOOKUP(N37,選手データ,4,0))","v":""},null,null,null,null,null,null,{"$f":"IF(VLOOKUP(N37,選手データ,5,0)=0,\"\",VLOOKUP(N37,選手データ,5,0))","v":""},{"$f":"IF(P37=\"\",\"\",\"年\")","v":""},{"$f":"IF(VLOOKUP(N37,選手データ,6,0)=0,\"\",VLOOKUP(N37,選手データ,6,0))","v":""},{"$f":"IF(P37=\"\",\"\",\"cm\")","v":""},{"$f":"IF(VLOOKUP(N37,選手データ,7,0)=0,\"\",VLOOKUP(N37,選手データ,7,0))","v":""},{"$f":"IF(P37=\"\",\"\",\"kg\")","v":""}]
[null,null,null,null,null,null,null,{"$f":"IF(VLOOKUP(A37,選手データ,8,0)=0,\"\",VLOOKUP(A37,選手データ,8,0))","v":""},null,null,{"$f":"IF(VLOOKUP(A37,選手データ,9,0)=0,\"\",VLOOKUP(A37,選手データ,9,0))","v":"さしすせそ"},null,null,null,null,null,null,null,null,null,null,null,{"$f":"IF(VLOOKUP(N37,選手データ,8,0)=0,\"\",VLOOKUP(N37,選手データ,8,0))","v":""},null,null,{"$f":"IF(VLOOKUP(N37,選手データ,9,0)=0,\"\",VLOOKUP(N37,選手データ,9,0))","v":"さしすせそ"}]
[12,{"$f":"IF(VLOOKUP(A39,選手データ,3,0)=0,\"\",ASC(VLOOKUP(A39,選手データ,3,0)))","v":""},{"$f":"IF(VLOOKUP(A39,選手データ,4,0)=0,\"\",VLOOKUP(A39,選手データ,4,0))","v":""},null,null,null,null,{"$f":"IF(VLOOKUP(A39,選手データ,5,0)=0,\"\",VLOOKUP(A39,選手データ,5,0))","v":""},{"$f":"IF(C39=\"\",\"\",\"年\")","v":""},{"$f":"IF(VLOOKUP(A39,選手データ,6,0)=0,\"\",VLOOKUP(A39,選手データ,6,0))","v":""},{"$f":"IF(C39=\"\",\"\",\"cm\")","v":""},{"$f":"IF(VLOOKUP(A39,選手データ,7,0)=0,\"\",VLOOKUP(A39,選手データ,7,0))","v":""},{"$f":"IF(C39=\"\",\"\",\"kg\")","v":""},25,{"$f":"IF(VLOOKUP(N39,選手データ,3,0)=0,\"\",ASC(VLOOKUP(N39,選手データ,3,0)))","v":""},{"$f":"IF(VLOOKUP(N39,選手データ,4,0)=0,\"\",VLOOKUP(N39,選手データ,4,0))","v":""},null,null,null,null,null,null,{"$f":"IF(VLOOKUP(N39,選手データ,5,0)=0,\"\",VLOOKUP(N39,選手データ,5,0))","v":""},{"$f":"IF(P39=\"\",\"\",\"年\")","v":""},{"$f":"IF(VLOOKUP(N39,選手データ,6,0)=0,\"\",VLOOKUP(N39,選手データ,6,0))","v":""},{"$f":"IF(P39=\"\",\"\",\"cm\")","v":""},{"$f":"IF(VLOOKUP(N39,選手データ,7,0)=0,\"\",VLOOKUP(N39,選手データ,7,0))","v":""},{"$f":"IF(P39=\"\",\"\",\"kg\")","v":""}]
[null,null,null,null,null,null,null,{"$f":"IF(VLOOKUP(A39,選手データ,8,0)=0,\"\",VLOOKUP(A39,選手データ,8,0))","v":""},null,null,{"$f":"IF(VLOOKUP(A39,選手データ,9,0)=0,\"\",VLOOKUP(A39,選手データ,9,0))","v":"さしすせそ"},null,null,null,null,null,null,null,null,null,null,null,{"$f":"IF(VLOOKUP(N39,選手データ,8,0)=0,\"\",VLOOKUP(N39,選手データ,8,0))","v":""},null,null,{"$f":"IF(VLOOKUP(N39,選手データ,9,0)=0,\"\",VLOOKUP(N39,選手データ,9,0))","v":"さしすせそ"}]
[13,{"$f":"IF(VLOOKUP(A41,選手データ,3,0)=0,\"\",ASC(VLOOKUP(A41,選手データ,3,0)))","v":""},{"$f":"IF(VLOOKUP(A41,選手データ,4,0)=0,\"\",VLOOKUP(A41,選手データ,4,0))","v":""},null,null,null,null,{"$f":"IF(VLOOKUP(A41,選手データ,5,0)=0,\"\",VLOOKUP(A41,選手データ,5,0))","v":""},{"$f":"IF(C41=\"\",\"\",\"年\")","v":""},{"$f":"IF(VLOOKUP(A41,選手データ,6,0)=0,\"\",VLOOKUP(A41,選手データ,6,0))","v":""},{"$f":"IF(C41=\"\",\"\",\"cm\")","v":""},{"$f":"IF(VLOOKUP(A41,選手データ,7,0)=0,\"\",VLOOKUP(A41,選手データ,7,0))","v":""},{"$f":"IF(C41=\"\",\"\",\"kg\")","v":""},"背番号","位置","氏名",null,null,null,null,null,null,"学年",null,"身長",null,"体重"]
[null,null,null,null,null,null,null,{"$f":"IF(VLOOKUP(A41,選手データ,8,0)=0,\"\",VLOOKUP(A41,選手データ,8,0))","v":""},null,null,{"$f":"IF(VLOOKUP(A41,選手データ,9,0)=0,\"\",VLOOKUP(A41,選手データ,9,0))","v":"さしすせそ"},null,null,null,null,null,null,null,null,null,null,null,"U-15チーム",null,null,"U-12チーム"]

{"sheet":"パンフレット2","index":5,"n_rows":48,"n_cols":30,"rows_kept":48,"cut":false,"hidden":true,"merged":[[0,0,0,6],[0,13,0,14],[1,0,3,12],[1,13,1,14],[1,16,1,22],[1,23,4,27],[2,13,2,14],[2,16,2,22],[0,16,0,27],[3,13,3,14],[3,16,3,22],[4,9,4,12],[4,13,4,14],[4,16,4,22],[6,0,6,6],[6,13,6,14],[6,16,6,27],[7,0,9,12],[7,13,7,14],[7,16,7,22],[7,23,10,27],[8,13,8,14],[8,16,8,22],[9,13,9,14],[9,16,9,22],[10,9,10,12],[10,13,10,14],[10,16,10,22],[12,1,12,2],[12,3,12,4],[12,5,12,6],[12,7,12,9],[12,12,18,26],[13,1,13,2],[13,3,13,4],[13,5,13,6],[13,7,13,9],[17,1,17,2],[17,3,17,4],[17,5,17,6],[17,7,17,9],[18,1,18,2],[18,3,18,4],[18,5,18,6],[18,7,18,9],[14,1,14,2],[14,3,14,4],[14,5,14,6],[14,7,14,9],[16,1,16,2],[16,3,16,4],[16,5,16,6],[16,7,16,9],[20,0,20,27],[22,0,23,0],[22,1,23,1],[22,2,23,4],[22,5,23,6],[22,13,23,13],[22,14,23,14],[22,15,23,19],[22,20,23,21],[23,7,23,9],[23,10,23,12],[23,22,23,24],[23,25,23,27],[24,0,25,0],[24,1,25,1],[24,2,25,4],[24,5,25,6],[24,13,25,13],[24,14,25,14],[24,15,25,19],[24,20,25,21],[25,7,25,9],[25,10,25,12],[25,22,25,24],[25,25,25,27],[26,0,27,0],[26,1,27,1],[26,2,27,4],[26,5,27,6],[26,13,27,13],[27,25,27,27],[28,0,29,0],[28,1,29,1],[28,2,29,4],[28,5,29,6],[28,13,29,13],[28,14,29,14],[28,15,29,19],[28,20,29,21],[29,7,29,9],[26,14,27,14],[26,15,27,19],[26,20,27,21],[27,7,27,9],[27,10,27,12],[27,22,27,24],[29,10,29,12],[29,22,29,24],[29,25,29,27],[30,0,31,0],[30,1,31,1],[30,2,31,4],[30,5,31,6],[30,13,31,13],[30,14,31,14],[30,15,31,19],[30,20,31,21],[31,7,31,9],[31,10,31,12],[31,22,31,24],[31,25,31,27],[32,0,33,0],[32,1,33,1],[32,2,33,4],[32,5,33,6],[32,13,33,13],[33,25,33,27],[34,0,35,0],[34,1,35,1],[34,2,35,4],[34,5,35,6],[34,13,35,13],[34,14,35,14],[34,15,35,19],[34,20,35,21],[35,7,35,9],[32,14,33,14],[32,15,33,19],[32,20,33,21],[33,7,33,9],[33,10,33,12],[33,22,33,24],[35,10,35,12],[35,22,35,24],[35,25,35,27],[36,0,37,0],[36,1,37,1],[36,2,37,4],[36,5,37,6],[36,13,37,13],[36,14,37,14],[36,15,37,19],[36,20,37,21],[37,7,37,9],[37,10,37,12],[37,22,37,24],[37,25,37,27],[38,0,39,0],[38,1,39,1],[38,2,39,4],[38,5,39,6],[38,13,39,13],[39,25,39,27],[40,0,41,0],[40,1,41,1],[40,2,41,4],[40,5,41,6],[40,13,41,13],[40,14,41,14],[40,15,41,19],[40,20,41,21],[41,7,41,9],[38,14,39,14],[38,15,39,19],[38,20,39,21],[39,7,39,9],[39,10,39,12],[39,22,39,24],[41,10,41,12],[44,0,45,0],[44,1,45,1],[44,2,45,4],[41,22,41,24],[41,25,41,27],[42,0,43,0],[42,1,43,1],[42,2,43,4],[42,5,43,6],[42,13,43,13],[42,14,43,14],[42,15,43,19],[42,20,43,21],[43,7,43,9],[43,10,43,12],[43,22,43,24],[43,25,43,27],[44,5,45,6],[44,13,45,13],[46,0,47,0],[46,1,47,1],[46,2,47,4],[46,5,47,6],[46,13,47,13],[46,14,47,14],[46,15,47,19],[46,20,47,21],[46,22,46,23],[46,24,46,25],[46,26,46,27],[47,7,47,9],[47,10,47,12],[47,22,47,24],[47,25,47,27],[45,25,45,27],[44,14,45,14],[44,15,45,19],[44,20,45,21],[45,7,45,9],[45,10,45,12],[45,22,45,24]]}
[{"$f":"IF(データ入力!C10=\"滋賀県立\",\"滋賀県立\",IF(データ入力!D10=\"\",\"\",データ入力!D10))","v":"滋賀県立"},null,null,null,null,null,null,null,null,null,null,null,null,"所在地",null,"／",{"$f":"\"〒\"&データ入力!C12&\"　\"&データ入力!C13","v":"〒　"},null,null,null,null,null,null,null,null,null,null,null,null,"「データ入力」シートに戻る場合は"]
[{"$f":"データ入力!C11","v":"高島"},null,null,null,null,null,null,null,null,null,null,null,null,"電話番号",null,"／",{"$f":"データ入力!C14","v":0},null,null,null,null,null,null,null,null,null,null,null,null,"いつも通りエクセルの下のタブを"]
[null,null,null,null,null,null,null,null,null,null,null,null,null,"部長名",null,"／",{"$f":"データ入力!C19","v":0},null,null,null,null,null,null,null,null,null,null,null,null,"選択してください。"]
[null,null,null,null,null,null,null,null,null,null,null,null,null,"監督名",null,"／",{"$f":"データ入力!C20","v":0}]
[null,null,null,null,null,null,null,null,null,{"$f":"データ入力!D11","v":"高等学校"},null,null,null,"主将名",null,"／",{"$f":"データ入力!C21","v":0}]
[]
[{"$f":"IF(データ入力!G10=\"滋賀県立\",\"滋賀県立\",IF(データ入力!H10=\"\",\"\",データ入力!H10))","v":"滋賀県立"},null,null,null,null,null,null,null,null,null,null,null,null,"所在地",null,"／",{"$f":"\"〒\"&データ入力!G12&\"　\"&データ入力!G13","v":"〒　"}]
[{"$f":"データ入力!G11","v":0},null,null,null,null,null,null,null,null,null,null,null,null,"電話番号",null,"／",{"$f":"データ入力!G14","v":0}]
[null,null,null,null,null,null,null,null,null,null,null,null,null,"部長名",null,"／",{"$f":"データ入力!G19","v":0}]
[null,null,null,null,null,null,null,null,null,null,null,null,null,"監督名",null,"／",{"$f":"データ入力!G20","v":0}]
[null,null,null,null,null,null,null,null,null,{"$f":"データ入力!H11","v":"高等学校"},null,null,null,"主将名",null,"／",{"$f":"データ入力!G21","v":0}]
[]
[null,"FP",null,"シャツ",null,"ショーツ",null,"ソックス",null,null,null,null,{"$f":"データ入力!C15","v":0}]
[null,"正",null,{"$f":"データ入力!C24","v":0},null,{"$f":"データ入力!D24","v":0},null,{"$f":"データ入力!E24","v":0}]
[null,"副",null,{"$f":"データ入力!C25","v":0},null,{"$f":"データ入力!D25","v":0},null,{"$f":"データ入力!E25","v":0}]
[]
[null,"ＧＫ",null,"シャツ",null,"ショーツ",null,"ソックス"]
[null,"正",null,{"$f":"データ入力!C26","v":0},null,{"$f":"データ入力!D26","v":0},null,{"$f":"データ入力!E26","v":0}]
[null,"副",null,{"$f":"データ入力!C27","v":0},null,{"$f":"データ入力!D27","v":0},null,{"$f":"データ入力!E27","v":0}]
[]
[]
[]
[1,{"$f":"IF(VLOOKUP(A23,選手データ,3,0)=0,\"\",ASC(VLOOKUP(A23,選手データ,3,0)))","v":""},{"$f":"IF(VLOOKUP(A23,選手データ,4,0)=0,\"\",VLOOKUP(A23,選手データ,4,0))","v":""},null,null,null,null,{"$f":"IF(VLOOKUP(A23,選手データ,5,0)=0,\"\",VLOOKUP(A23,選手データ,5,0))","v":""},{"$f":"IF(C23=\"\",\"\",\"年\")","v":""},{"$f":"IF(VLOOKUP(A23,選手データ,6,0)=0,\"\",VLOOKUP(A23,選手データ,6,0))","v":""},{"$f":"IF(C23=\"\",\"\",\"cm\")","v":""},{"$f":"IF(VLOOKUP(A23,選手データ,7,0)=0,\"\",VLOOKUP(A23,選手データ,7,0))","v":""},{"$f":"IF(C23=\"\",\"\",\"kg\")","v":""},14,{"$f":"IF(VLOOKUP(N23,選手データ,3,0)=0,\"\",ASC(VLOOKUP(N23,選手データ,3,0)))","v":""},{"$f":"IF(VLOOKUP(N23,選手データ,4,0)=0,\"\",VLOOKUP(N23,選手データ,4,0))","v":""},null,null,null,null,null,null,{"$f":"IF(VLOOKUP(N23,選手データ,5,0)=0,\"\",VLOOKUP(N23,選手データ,5,0))","v":""},{"$f":"IF(P23=\"\",\"\",\"年\")","v":""},{"$f":"IF(VLOOKUP(N23,選手データ,6,0)=0,\"\",VLOOKUP(N23,選手データ,6,0))","v":""},{"$f":"IF(P23=\"\",\"\",\"cm\")","v":""},{"$f":"IF(VLOOKUP(N23,選手データ,7,0)=0,\"\",VLOOKUP(N23,選手データ,7,0))","v":""},{"$f":"IF(P23=\"\",\"\",\"kg\")","v":""}]
[null,null,null,null,null,null,null,{"$f":"IF(VLOOKUP(A23,選手データ,8,0)=0,\"\",VLOOKUP(A23,選手データ,8,0))","v":""},null,null,{"$f":"IF(VLOOKUP(A23,選手データ,9,0)=0,\"\",VLOOKUP(A23,選手データ,9,0))","v":"さしすせそ"},null,null,null,null,null,null,null,null,null,null,null,{"$f":"IF(VLOOKUP(N23,選手データ,8,0)=0,\"\",VLOOKUP(N23,選手データ,8,0))","v":""},null,null,{"$f":"IF(VLOOKUP(N23,選手データ,9,0)=0,\"\",VLOOKUP(N23,選手データ,9,0))","v":"さしすせそ"}]
[2,{"$f":"IF(VLOOKUP(A25,選手データ,3,0)=0,\"\",ASC(VLOOKUP(A25,選手データ,3,0)))","v":""},{"$f":"IF(VLOOKUP(A25,選手データ,4,0)=0,\"\",VLOOKUP(A25,選手データ,4,0))","v":""},null,null,null,null,{"$f":"IF(VLOOKUP(A25,選手データ,5,0)=0,\"\",VLOOKUP(A25,選手データ,5,0))","v":""},{"$f":"IF(C25=\"\",\"\",\"年\")","v":""},{"$f":"IF(VLOOKUP(A25,選手データ,6,0)=0,\"\",VLOOKUP(A25,選手データ,6,0))","v":""},{"$f":"IF(C25=\"\",\"\",\"cm\")","v":""},{"$f":"IF(VLOOKUP(A25,選手データ,7,0)=0,\"\",VLOOKUP(A25,選手データ,7,0))","v":""},{"$f":"IF(C25=\"\",\"\",\"kg\")","v":""},15,{"$f":"IF(VLOOKUP(N25,選手データ,3,0)=0,\"\",ASC(VLOOKUP(N25,選手データ,3,0)))","v":""},{"$f":"IF(VLOOKUP(N25,選手データ,4,0)=0,\"\",VLOOKUP(N25,選手データ,4,0))","v":""},null,null,null,null,null,null,{"$f":"IF(VLOOKUP(N25,選手データ,5,0)=0,\"\",VLOOKUP(N25,選手データ,5,0))","v":""},{"$f":"IF(P25=\"\",\"\",\"年\")","v":""},{"$f":"IF(VLOOKUP(N25,選手データ,6,0)=0,\"\",VLOOKUP(N25,選手データ,6,0))","v":""},{"$f":"IF(P25=\"\",\"\",\"cm\")","v":""},{"$f":"IF(VLOOKUP(N25,選手データ,7,0)=0,\"\",VLOOKUP(N25,選手データ,7,0))","v":""},{"$f":"IF(P25=\"\",\"\",\"kg\")","v":""}]
[null,null,null,null,null,null,null,{"$f":"IF(VLOOKUP(A25,選手データ,8,0)=0,\"\",VLOOKUP(A25,選手データ,8,0))","v":""},null,null,{"$f":"IF(VLOOKUP(A25,選手データ,9,0)=0,\"\",VLOOKUP(A25,選手データ,9,0))","v":"さしすせそ"},null,null,null,null,null,null,null,null,null,null,null,{"$f":"IF(VLOOKUP(N25,選手データ,8,0)=0,\"\",VLOOKUP(N25,選手データ,8,0))","v":""},null,null,{"$f":"IF(VLOOKUP(N25,選手データ,9,0)=0,\"\",VLOOKUP(N25,選手データ,9,0))","v":"さしすせそ"}]
[3,{"$f":"IF(VLOOKUP(A27,選手データ,3,0)=0,\"\",ASC(VLOOKUP(A27,選手データ,3,0)))","v":""},{"$f":"IF(VLOOKUP(A27,選手データ,4,0)=0,\"\",VLOOKUP(A27,選手データ,4,0))","v":""},null,null,null,null,{"$f":"IF(VLOOKUP(A27,選手データ,5,0)=0,\"\",VLOOKUP(A27,選手データ,5,0))","v":""},{"$f":"IF(C27=\"\",\"\",\"年\")","v":""},{"$f":"IF(VLOOKUP(A27,選手データ,6,0)=0,\"\",VLOOKUP(A27,選手データ,6,0))","v":""},{"$f":"IF(C27=\"\",\"\",\"cm\")","v":""},{"$f":"IF(VLOOKUP(A27,選手データ,7,0)=0,\"\",VLOOKUP(A27,選手データ,7,0))","v":""},{"$f":"IF(C27=\"\",\"\",\"kg\")","v":""},16,{"$f":"IF(VLOOKUP(N27,選手データ,3,0)=0,\"\",ASC(VLOOKUP(N27,選手データ,3,0)))","v":""},{"$f":"IF(VLOOKUP(N27,選手データ,4,0)=0,\"\",VLOOKUP(N27,選手データ,4,0))","v":""},null,null,null,null,null,null,{"$f":"IF(VLOOKUP(N27,選手データ,5,0)=0,\"\",VLOOKUP(N27,選手データ,5,0))","v":""},{"$f":"IF(P27=\"\",\"\",\"年\")","v":""},{"$f":"IF(VLOOKUP(N27,選手データ,6,0)=0,\"\",VLOOKUP(N27,選手データ,6,0))","v":""},{"$f":"IF(P27=\"\",\"\",\"cm\")","v":""},{"$f":"IF(VLOOKUP(N27,選手データ,7,0)=0,\"\",VLOOKUP(N27,選手データ,7,0))","v":""},{"$f":"IF(P27=\"\",\"\",\"kg\")","v":""}]
[null,null,null,null,null,null,null,{"$f":"IF(VLOOKUP(A27,選手データ,8,0)=0,\"\",VLOOKUP(A27,選手データ,8,0))","v":""},null,null,{"$f":"IF(VLOOKUP(A27,選手データ,9,0)=0,\"\",VLOOKUP(A27,選手データ,9,0))","v":"さしすせそ"},null,null,null,null,null,null,null,null,null,null,null,{"$f":"IF(VLOOKUP(N27,選手データ,8,0)=0,\"\",VLOOKUP(N27,選手データ,8,0))","v":""},null,null,{"$f":"IF(VLOOKUP(N27,選手データ,9,0)=0,\"\",VLOOKUP(N27,選手データ,9,0))","v":"さしすせそ"}]
[4,{"$f":"IF(VLOOKUP(A29,選手データ,3,0)=0,\"\",ASC(VLOOKUP(A29,選手データ,3,0)))","v":""},{"$f":"IF(VLOOKUP(A29,選手データ,4,0)=0,\"\",VLOOKUP(A29,選手データ,4,0))","v":""},null,null,null,null,{"$f":"IF(VLOOKUP(A29,選手データ,5,0)=0,\"\",VLOOKUP(A29,選手データ,5,0))","v":""},{"$f":"IF(C29=\"\",\"\",\"年\")","v":""},{"$f":"IF(VLOOKUP(A29,選手データ,6,0)=0,\"\",VLOOKUP(A29,選手データ,6,0))","v":""},{"$f":"IF(C29=\"\",\"\",\"cm\")","v":""},{"$f":"IF(VLOOKUP(A29,選手データ,7,0)=0,\"\",VLOOKUP(A29,選手データ,7,0))","v":""},{"$f":"IF(C29=\"\",\"\",\"kg\")","v":""},17,{"$f":"IF(VLOOKUP(N29,選手データ,3,0)=0,\"\",ASC(VLOOKUP(N29,選手データ,3,0)))","v":""},{"$f":"IF(VLOOKUP(N29,選手データ,4,0)=0,\"\",VLOOKUP(N29,選手データ,4,0))","v":""},null,null,null,null,null,null,{"$f":"IF(VLOOKUP(N29,選手データ,5,0)=0,\"\",VLOOKUP(N29,選手データ,5,0))","v":""},{"$f":"IF(P29=\"\",\"\",\"年\")","v":""},{"$f":"IF(VLOOKUP(N29,選手データ,6,0)=0,\"\",VLOOKUP(N29,選手データ,6,0))","v":""},{"$f":"IF(P29=\"\",\"\",\"cm\")","v":""},{"$f":"IF(VLOOKUP(N29,選手データ,7,0)=0,\"\",VLOOKUP(N29,選手データ,7,0))","v":""},{"$f":"IF(P29=\"\",\"\",\"kg\")","v":""}]
[null,null,null,null,null,null,null,{"$f":"IF(VLOOKUP(A29,選手データ,8,0)=0,\"\",VLOOKUP(A29,選手データ,8,0))","v":""},null,null,{"$f":"IF(VLOOKUP(A29,選手データ,9,0)=0,\"\",VLOOKUP(A29,選手データ,9,0))","v":"さしすせそ"},null,null,null,null,null,null,null,null,null,null,null,{"$f":"IF(VLOOKUP(N29,選手データ,8,0)=0,\"\",VLOOKUP(N29,選手データ,8,0))","v":""},null,null,{"$f":"IF(VLOOKUP(N29,選手データ,9,0)=0,\"\",VLOOKUP(N29,選手データ,9,0))","v":""}]
[5,{"$f":"IF(VLOOKUP(A31,選手データ,3,0)=0,\"\",ASC(VLOOKUP(A31,選手データ,3,0)))","v":""},{"$f":"IF(VLOOKUP(A31,選手データ,4,0)=0,\"\",VLOOKUP(A31,選手データ,4,0))","v":""},null,null,null,null,{"$f":"IF(VLOOKUP(A31,選手データ,5,0)=0,\"\",VLOOKUP(A31,選手データ,5,0))","v":""},{"$f":"IF(C31=\"\",\"\",\"年\")","v":""},{"$f":"IF(VLOOKUP(A31,選手データ,6,0)=0,\"\",VLOOKUP(A31,選手データ,6,0))","v":""},{"$f":"IF(C31=\"\",\"\",\"cm\")","v":""},{"$f":"IF(VLOOKUP(A31,選手データ,7,0)=0,\"\",VLOOKUP(A31,選手データ,7,0))","v":""},{"$f":"IF(C31=\"\",\"\",\"kg\")","v":""},18,{"$f":"IF(VLOOKUP(N31,選手データ,3,0)=0,\"\",ASC(VLOOKUP(N31,選手データ,3,0)))","v":""},{"$f":"IF(VLOOKUP(N31,選手データ,4,0)=0,\"\",VLOOKUP(N31,選手データ,4,0))","v":""},null,null,null,null,null,null,{"$f":"IF(VLOOKUP(N31,選手データ,5,0)=0,\"\",VLOOKUP(N31,選手データ,5,0))","v":""},{"$f":"IF(P31=\"\",\"\",\"年\")","v":""},{"$f":"IF(VLOOKUP(N31,選手データ,6,0)=0,\"\",VLOOKUP(N31,選手データ,6,0))","v":""},{"$f":"IF(P31=\"\",\"\",\"cm\")","v":""},{"$f":"IF(VLOOKUP(N31,選手データ,7,0)=0,\"\",VLOOKUP(N31,選手データ,7,0))","v":""},{"$f":"IF(P31=\"\",\"\",\"kg\")","v":""}]
[null,null,null,null,null,null,null,{"$f":"IF(VLOOKUP(A31,選手データ,8,0)=0,\"\",VLOOKUP(A31,選手データ,8,0))","v":""},null,null,{"$f":"IF(VLOOKUP(A31,選手データ,9,0)=0,\"\",VLOOKUP(A31,選手データ,9,0))","v":"さしすせそ"},null,null,null,null,null,null,null,null,null,null,null,{"$f":"IF(VLOOKUP(N31,選手データ,8,0)=0,\"\",VLOOKUP(N31,選手データ,8,0))","v":""},null,null,{"$f":"IF(VLOOKUP(N31,選手データ,9,0)=0,\"\",VLOOKUP(N31,選手データ,9,0))","v":"さしすせそ"}]
[6,{"$f":"IF(VLOOKUP(A33,選手データ,3,0)=0,\"\",ASC(VLOOKUP(A33,選手データ,3,0)))","v":""},{"$f":"IF(VLOOKUP(A33,選手データ,4,0)=0,\"\",VLOOKUP(A33,選手データ,4,0))","v":""},null,null,null,null,{"$f":"IF(VLOOKUP(A33,選手データ,5,0)=0,\"\",VLOOKUP(A33,選手データ,5,0))","v":""},{"$f":"IF(C33=\"\",\"\",\"年\")","v":""},{"$f":"IF(VLOOKUP(A33,選手データ,6,0)=0,\"\",VLOOKUP(A33,選手データ,6,0))","v":""},{"$f":"IF(C33=\"\",\"\",\"cm\")","v":""},{"$f":"IF(VLOOKUP(A33,選手データ,7,0)=0,\"\",VLOOKUP(A33,選手データ,7,0))","v":""},{"$f":"IF(C33=\"\",\"\",\"kg\")","v":""},19,{"$f":"IF(VLOOKUP(N33,選手データ,3,0)=0,\"\",ASC(VLOOKUP(N33,選手データ,3,0)))","v":""},{"$f":"IF(VLOOKUP(N33,選手データ,4,0)=0,\"\",VLOOKUP(N33,選手データ,4,0))","v":""},null,null,null,null,null,null,{"$f":"IF(VLOOKUP(N33,選手データ,5,0)=0,\"\",VLOOKUP(N33,選手データ,5,0))","v":""},{"$f":"IF(P33=\"\",\"\",\"年\")","v":""},{"$f":"IF(VLOOKUP(N33,選手データ,6,0)=0,\"\",VLOOKUP(N33,選手データ,6,0))","v":""},{"$f":"IF(P33=\"\",\"\",\"cm\")","v":""},{"$f":"IF(VLOOKUP(N33,選手データ,7,0)=0,\"\",VLOOKUP(N33,選手データ,7,0))","v":""},{"$f":"IF(P33=\"\",\"\",\"kg\")","v":""}]
[null,null,null,null,null,null,null,{"$f":"IF(VLOOKUP(A33,選手データ,8,0)=0,\"\",VLOOKUP(A33,選手データ,8,0))","v":""},null,null,{"$f":"IF(VLOOKUP(A33,選手データ,9,0)=0,\"\",VLOOKUP(A33,選手データ,9,0))","v":"さしすせそ"},null,null,null,null,null,null,null,null,null,null,null,{"$f":"IF(VLOOKUP(N33,選手データ,8,0)=0,\"\",VLOOKUP(N33,選手データ,8,0))","v":""},null,null,{"$f":"IF(VLOOKUP(N33,選手データ,9,0)=0,\"\",VLOOKUP(N33,選手データ,9,0))","v":"さしすせそ"}]
[7,{"$f":"IF(VLOOKUP(A35,選手データ,3,0)=0,\"\",ASC(VLOOKUP(A35,選手データ,3,0)))","v":""},{"$f":"IF(VLOOKUP(A35,選手データ,4,0)=0,\"\",VLOOKUP(A35,選手データ,4,0))","v":""},null,null,null,null,{"$f":"IF(VLOOKUP(A35,選手データ,5,0)=0,\"\",VLOOKUP(A35,選手データ,5,0))","v":""},{"$f":"IF(C35=\"\",\"\",\"年\")","v":""},{"$f":"IF(VLOOKUP(A35,選手データ,6,0)=0,\"\",VLOOKUP(A35,選手データ,6,0))","v":""},{"$f":"IF(C35=\"\",\"\",\"cm\")","v":""},{"$f":"IF(VLOOKUP(A35,選手データ,7,0)=0,\"\",VLOOKUP(A35,選手データ,7,0))","v":""},{"$f":"IF(C35=\"\",\"\",\"kg\")","v":""},20,{"$f":"IF(VLOOKUP(N35,選手データ,3,0)=0,\"\",ASC(VLOOKUP(N35,選手データ,3,0)))","v":""},{"$f":"IF(VLOOKUP(N35,選手データ,4,0)=0,\"\",VLOOKUP(N35,選手データ,4,0))","v":""},null,null,null,null,null,null,{"$f":"IF(VLOOKUP(N35,選手データ,5,0)=0,\"\",VLOOKUP(N35,選手データ,5,0))","v":""},{"$f":"IF(P35=\"\",\"\",\"年\")","v":""},{"$f":"IF(VLOOKUP(N35,選手データ,6,0)=0,\"\",VLOOKUP(N35,選手データ,6,0))","v":""},{"$f":"IF(P35=\"\",\"\",\"cm\")","v":""},{"$f":"IF(VLOOKUP(N35,選手データ,7,0)=0,\"\",VLOOKUP(N35,選手データ,7,0))","v":""},{"$f":"IF(P35=\"\",\"\",\"kg\")","v":""}]
[null,null,null,null,null,null,null,{"$f":"IF(VLOOKUP(A35,選手データ,8,0)=0,\"\",VLOOKUP(A35,選手データ,8,0))","v":""},null,null,{"$f":"IF(VLOOKUP(A35,選手データ,9,0)=0,\"\",VLOOKUP(A35,選手データ,9,0))","v":"さしすせそ"},null,null,null,null,null,null,null,null,null,null,null,{"$f":"IF(VLOOKUP(N35,選手データ,8,0)=0,\"\",VLOOKUP(N35,選手データ,8,0))","v":""},null,null,{"$f":"IF(VLOOKUP(N35,選手データ,9,0)=0,\"\",VLOOKUP(N35,選手データ,9,0))","v":"さしすせそ"}]
[8,{"$f":"IF(VLOOKUP(A37,選手データ,3,0)=0,\"\",ASC(VLOOKUP(A37,選手データ,3,0)))","v":""},{"$f":"IF(VLOOKUP(A37,選手データ,4,0)=0,\"\",VLOOKUP(A37,選手データ,4,0))","v":""},null,null,null,null,{"$f":"IF(VLOOKUP(A37,選手データ,5,0)=0,\"\",VLOOKUP(A37,選手データ,5,0))","v":""},{"$f":"IF(C37=\"\",\"\",\"年\")","v":""},{"$f":"IF(VLOOKUP(A37,選手データ,6,0)=0,\"\",VLOOKUP(A37,選手データ,6,0))","v":""},{"$f":"IF(C37=\"\",\"\",\"cm\")","v":""},{"$f":"IF(VLOOKUP(A37,選手データ,7,0)=0,\"\",VLOOKUP(A37,選手データ,7,0))","v":""},{"$f":"IF(C37=\"\",\"\",\"kg\")","v":""},21,{"$f":"IF(VLOOKUP(N37,選手データ,3,0)=0,\"\",ASC(VLOOKUP(N37,選手データ,3,0)))","v":""},{"$f":"IF(VLOOKUP(N37,選手データ,4,0)=0,\"\",VLOOKUP(N37,選手データ,4,0))","v":""},null,null,null,null,null,null,{"$f":"IF(VLOOKUP(N37,選手データ,5,0)=0,\"\",VLOOKUP(N37,選手データ,5,0))","v":""},{"$f":"IF(P37=\"\",\"\",\"年\")","v":""},{"$f":"IF(VLOOKUP(N37,選手データ,6,0)=0,\"\",VLOOKUP(N37,選手データ,6,0))","v":""},{"$f":"IF(P37=\"\",\"\",\"cm\")","v":""},{"$f":"IF(VLOOKUP(N37,選手データ,7,0)=0,\"\",VLOOKUP(N37,選手データ,7,0))","v":""},{"$f":"IF(P37=\"\",\"\",\"kg\")","v":""}]
[null,null,null,null,null,null,null,{"$f":"IF(VLOOKUP(A37,選手データ,8,0)=0,\"\",VLOOKUP(A37,選手データ,8,0))","v":""},null,null,{"$f":"IF(VLOOKUP(A37,選手データ,9,0)=0,\"\",VLOOKUP(A37,選手データ,9,0))","v":"さしすせそ"},null,null,null,null,null,null,null,null,null,null,null,{"$f":"IF(VLOOKUP(N37,選手データ,8,0)=0,\"\",VLOOKUP(N37,選手データ,8,0))","v":""},null,null,{"$f":"IF(VLOOKUP(N37,選手データ,9,0)=0,\"\",VLOOKUP(N37,選手データ,9,0))","v":"さしすせそ"}]
[9,{"$f":"IF(VLOOKUP(A39,選手データ,3,0)=0,\"\",ASC(VLOOKUP(A39,選手データ,3,0)))","v":""},{"$f":"IF(VLOOKUP(A39,選手データ,4,0)=0,\"\",VLOOKUP(A39,選手データ,4,0))","v":""},null,null,null,null,{"$f":"IF(VLOOKUP(A39,選手データ,5,0)=0,\"\",VLOOKUP(A39,選手データ,5,0))","v":""},{"$f":"IF(C39=\"\",\"\",\"年\")","v":""},{"$f":"IF(VLOOKUP(A39,選手データ,6,0)=0,\"\",VLOOKUP(A39,選手データ,6,0))","v":""},{"$f":"IF(C39=\"\",\"\",\"cm\")","v":""},{"$f":"IF(VLOOKUP(A39,選手データ,7,0)=0,\"\",VLOOKUP(A39,選手データ,7,0))","v":""},{"$f":"IF(C39=\"\",\"\",\"kg\")","v":""},22,{"$f":"IF(VLOOKUP(N39,選手データ,3,0)=0,\"\",ASC(VLOOKUP(N39,選手データ,3,0)))","v":""},{"$f":"IF(VLOOKUP(N39,選手データ,4,0)=0,\"\",VLOOKUP(N39,選手データ,4,0))","v":""},null,null,null,null,null,null,{"$f":"IF(VLOOKUP(N39,選手データ,5,0)=0,\"\",VLOOKUP(N39,選手データ,5,0))","v":""},{"$f":"IF(P39=\"\",\"\",\"年\")","v":""},{"$f":"IF(VLOOKUP(N39,選手データ,6,0)=0,\"\",VLOOKUP(N39,選手データ,6,0))","v":""},{"$f":"IF(P39=\"\",\"\",\"cm\")","v":""},{"$f":"IF(VLOOKUP(N39,選手データ,7,0)=0,\"\",VLOOKUP(N39,選手データ,7,0))","v":""},{"$f":"IF(P39=\"\",\"\",\"kg\")","v":""}]
[null,null,null,null,null,null,null,{"$f":"IF(VLOOKUP(A39,選手データ,8,0)=0,\"\",VLOOKUP(A39,選手データ,8,0))","v":""},null,null,{"$f":"IF(VLOOKUP(A39,選手データ,9,0)=0,\"\",VLOOKUP(A39,選手データ,9,0))","v":"さしすせそ"},null,null,null,null,null,null,null,null,null,null,null,{"$f":"IF(VLOOKUP(N39,選手データ,8,0)=0,\"\",VLOOKUP(N39,選手データ,8,0))","v":""},null,null,{"$f":"IF(VLOOKUP(N39,選手データ,9,0)=0,\"\",VLOOKUP(N39,選手データ,9,0))","v":"さしすせそ"}]
[10,{"$f":"IF(VLOOKUP(A41,選手データ,3,0)=0,\"\",ASC(VLOOKUP(A41,選手データ,3,0)))","v":""},{"$f":"IF(VLOOKUP(A41,選手データ,4,0)=0,\"\",VLOOKUP(A41,選手データ,4,0))","v":""},null,null,null,null,{"$f":"IF(VLOOKUP(A41,選手データ,5,0)=0,\"\",VLOOKUP(A41,選手データ,5,0))","v":""},{"$f":"IF(C41=\"\",\"\",\"年\")","v":""},{"$f":"IF(VLOOKUP(A41,選手データ,6,0)=0,\"\",VLOOKUP(A41,選手データ,6,0))","v":""},{"$f":"IF(C41=\"\",\"\",\"cm\")","v":""},{"$f":"IF(VLOOKUP(A41,選手データ,7,0)=0,\"\",VLOOKUP(A41,選手データ,7,0))","v":""},{"$f":"IF(C41=\"\",\"\",\"kg\")","v":""},23,{"$f":"IF(VLOOKUP(N41,選手データ,3,0)=0,\"\",ASC(VLOOKUP(N41,選手データ,3,0)))","v":""},{"$f":"IF(VLOOKUP(N41,選手データ,4,0)=0,\"\",VLOOKUP(N41,選手データ,4,0))","v":""},null,null,null,null,null,null,{"$f":"IF(VLOOKUP(N41,選手データ,5,0)=0,\"\",VLOOKUP(N41,選手データ,5,0))","v":""},{"$f":"IF(P41=\"\",\"\",\"年\")","v":""},{"$f":"IF(VLOOKUP(N41,選手データ,6,0)=0,\"\",VLOOKUP(N41,選手データ,6,0))","v":""},{"$f":"IF(P41=\"\",\"\",\"cm\")","v":""},{"$f":"IF(VLOOKUP(N41,選手データ,7,0)=0,\"\",VLOOKUP(N41,選手データ,7,0))","v":""},{"$f":"IF(P41=\"\",\"\",\"kg\")","v":""}]
[null,null,null,null,null,null,null,{"$f":"IF(VLOOKUP(A41,選手データ,8,0)=0,\"\",VLOOKUP(A41,選手データ,8,0))","v":""},null,null,{"$f":"IF(VLOOKUP(A41,選手データ,9,0)=0,\"\",VLOOKUP(A41,選手データ,9,0))","v":"さしすせそ"},null,null,null,null,null,null,null,null,null,null,null,{"$f":"IF(VLOOKUP(N41,選手データ,8,0)=0,\"\",VLOOKUP(N41,選手データ,8,0))","v":""},null,null,{"$f":"IF(VLOOKUP(N41,選手データ,9,0)=0,\"\",VLOOKUP(N41,選手データ,9,0))","v":"さしすせそ"}]
[11,{"$f":"IF(VLOOKUP(A43,選手データ,3,0)=0,\"\",ASC(VLOOKUP(A43,選手データ,3,0)))","v":""},{"$f":"IF(VLOOKUP(A43,選手データ,4,0)=0,\"\",VLOOKUP(A43,選手データ,4,0))","v":""},null,null,null,null,{"$f":"IF(VLOOKUP(A43,選手データ,5,0)=0,\"\",VLOOKUP(A43,選手データ,5,0))","v":""},{"$f":"IF(C43=\"\",\"\",\"年\")","v":""},{"$f":"IF(VLOOKUP(A43,選手データ,6,0)=0,\"\",VLOOKUP(A43,選手データ,6,0))","v":""},{"$f":"IF(C43=\"\",\"\",\"cm\")","v":""},{"$f":"IF(VLOOKUP(A43,選手データ,7,0)=0,\"\",VLOOKUP(A43,選手データ,7,0))","v":""},{"$f":"IF(C43=\"\",\"\",\"kg\")","v":""},24,{"$f":"IF(VLOOKUP(N43,選手データ,3,0)=0,\"\",ASC(VLOOKUP(N43,選手データ,3,0)))","v":""},{"$f":"IF(VLOOKUP(N43,選手データ,4,0)=0,\"\",VLOOKUP(N43,選手データ,4,0))","v":""},null,null,null,null,null,null,{"$f":"IF(VLOOKUP(N43,選手データ,5,0)=0,\"\",VLOOKUP(N43,選手データ,5,0))","v":""},{"$f":"IF(P43=\"\",\"\",\"年\")","v":""},{"$f":"IF(VLOOKUP(N43,選手データ,6,0)=0,\"\",VLOOKUP(N43,選手データ,6,0))","v":""},{"$f":"IF(P43=\"\",\"\",\"cm\")","v":""},{"$f":"IF(VLOOKUP(N43,選手データ,7,0)=0,\"\",VLOOKUP(N43,選手データ,7,0))","v":""},{"$f":"IF(P43=\"\",\"\",\"kg\")","v":""}]
[null,null,null,null,null,null,null,{"$f":"IF(VLOOKUP(A43,選手データ,8,0)=0,\"\",VLOOKUP(A43,選手データ,8,0))","v":""},null,null,{"$f":"IF(VLOOKUP(A43,選手データ,9,0)=0,\"\",VLOOKUP(A43,選手データ,9,0))","v":"さしすせそ"},null,null,null,null,null,null,null,null,null,null,null,{"$f":"IF(VLOOKUP(N43,選手データ,8,0)=0,\"\",VLOOKUP(N43,選手データ,8,0))","v":""},null,null,{"$f":"IF(VLOOKUP(N43,選手データ,9,0)=0,\"\",VLOOKUP(N43,選手データ,9,0))","v":"さしすせそ"}]
[12,{"$f":"IF(VLOOKUP(A45,選手データ,3,0)=0,\"\",ASC(VLOOKUP(A45,選手データ,3,0)))","v":""},{"$f":"IF(VLOOKUP(A45,選手データ,4,0)=0,\"\",VLOOKUP(A45,選手データ,4,0))","v":""},null,null,null,null,{"$f":"IF(VLOOKUP(A45,選手データ,5,0)=0,\"\",VLOOKUP(A45,選手データ,5,0))","v":""},{"$f":"IF(C45=\"\",\"\",\"年\")","v":""},{"$f":"IF(VLOOKUP(A45,選手データ,6,0)=0,\"\",VLOOKUP(A45,選手データ,6,0))","v":""},{"$f":"IF(C45=\"\",\"\",\"cm\")","v":""},{"$f":"IF(VLOOKUP(A45,選手データ,7,0)=0,\"\",VLOOKUP(A45,選手データ,7,0))","v":""},{"$f":"IF(C45=\"\",\"\",\"kg\")","v":""},25,{"$f":"IF(VLOOKUP(N45,選手データ,3,0)=0,\"\",ASC(VLOOKUP(N45,選手データ,3,0)))","v":""},{"$f":"IF(VLOOKUP(N45,選手データ,4,0)=0,\"\",VLOOKUP(N45,選手データ,4,0))","v":""},null,null,null,null,null,null,{"$f":"IF(VLOOKUP(N45,選手データ,5,0)=0,\"\",VLOOKUP(N45,選手データ,5,0))","v":""},{"$f":"IF(P45=\"\",\"\",\"年\")","v":""},{"$f":"IF(VLOOKUP(N45,選手データ,6,0)=0,\"\",VLOOKUP(N45,選手データ,6,0))","v":""},{"$f":"IF(P45=\"\",\"\",\"cm\")","v":""},{"$f":"IF(VLOOKUP(N45,選手データ,7,0)=0,\"\",VLOOKUP(N45,選手データ,7,0))","v":""},{"$f":"IF(P45=\"\",\"\",\"kg\")","v":""}]
[null,null,null,null,null,null,null,{"$f":"IF(VLOOKUP(A45,選手データ,8,0)=0,\"\",VLOOKUP(A45,選手データ,8,0))","v":""},null,null,{"$f":"IF(VLOOKUP(A45,選手データ,9,0)=0,\"\",VLOOKUP(A45,選手データ,9,0))","v":"さしすせそ"},null,null,null,null,null,null,null,null,null,null,null,{"$f":"IF(VLOOKUP(N45,選手データ,8,0)=0,\"\",VLOOKUP(N45,選手データ,8,0))","v":""},null,null,{"$f":"IF(VLOOKUP(N45,選手データ,9,0)=0,\"\",VLOOKUP(N45,選手データ,9,0))","v":"さしすせそ"}]
[13,{"$f":"IF(VLOOKUP(A47,選手データ,3,0)=0,\"\",ASC(VLOOKUP(A47,選手データ,3,0)))","v":""},{"$f":"IF(VLOOKUP(A47,選手データ,4,0)=0,\"\",VLOOKUP(A47,選手データ,4,0))","v":""},null,null,null,null,{"$f":"IF(VLOOKUP(A47,選手データ,5,0)=0,\"\",VLOOKUP(A47,選手データ,5,0))","v":""},{"$f":"IF(C47=\"\",\"\",\"年\")","v":""},{"$f":"IF(VLOOKUP(A47,選手データ,6,0)=0,\"\",VLOOKUP(A47,選手データ,6,0))","v":""},{"$f":"IF(C47=\"\",\"\",\"cm\")","v":""},{"$f":"IF(VLOOKUP(A47,選手データ,7,0)=0,\"\",VLOOKUP(A47,選手データ,7,0))","v":""},{"$f":"IF(C47=\"\",\"\",\"kg\")","v":""},"背番号","位置","氏名",null,null,null,null,"学校",null,"学年",null,"身長",null,"体重"]
[null,null,null,null,null,null,null,{"$f":"IF(VLOOKUP(A47,選手データ,8,0)=0,\"\",VLOOKUP(A47,選手データ,8,0))","v":""},null,null,{"$f":"IF(VLOOKUP(A47,選手データ,9,0)=0,\"\",VLOOKUP(A47,選手データ,9,0))","v":"さしすせそ"},null,null,null,null,null,null,null,null,null,null,null,"U-15チーム",null,null,"U-12チーム"]